[dpdk-test-report] |SUCCESS| pw64231 [PATCH] net/mlx5: fix modify actions support limitation

dpdklab at iol.unh.edu dpdklab at iol.unh.edu
Mon Jan 6 18:43:50 CET 2020


Test-Label: iol-testing
Test-Status: SUCCESS
http://dpdk.org/patch/64231

_Testing PASS_

Submitter: Bing Zhao <bingz at mellanox.com>
Date: Monday, January 06 2020 06:31:57 
DPDK git baseline: Repo:dpdk
  Branch: master
  CommitID:10060dba6455461088d24e03d3cfeba639d53022

64231 --> testing pass

Test environment and result as below:

+------------------+-------------------+------------------+--------------------+----------------+--------------+
|   Environment    | dpdk_compile_spdk | dpdk_compile_ovs | dpdk_meson_compile | dpdk_unit_test | dpdk_compile |
+==================+===================+==================+====================+================+==============+
| FreeBSD 11.2     | PASS              | SKIPPED          | PASS               | SKIPPED        | PASS         |
+------------------+-------------------+------------------+--------------------+----------------+--------------+
| Ubuntu 18.04     | PASS              | PASS             | PASS               | PASS           | PASS         |
+------------------+-------------------+------------------+--------------------+----------------+--------------+
| openSUSE Leap 15 | SKIPPED           | PASS             | PASS               | SKIPPED        | PASS         |
+------------------+-------------------+------------------+--------------------+----------------+--------------+
| Fedora 31        | SKIPPED           | PASS             | PASS               | SKIPPED        | PASS         |
+------------------+-------------------+------------------+--------------------+----------------+--------------+
| CentOS 8         | SKIPPED           | PASS             | PASS               | SKIPPED        | PASS         |
+------------------+-------------------+------------------+--------------------+----------------+--------------+

FreeBSD 11.2
	Kernel: 11.2
	GCC: 8.3

Ubuntu 18.04
	Kernel: 4.15.0-generic
	GCC: 7.4

openSUSE Leap 15
	Kernel: 4.12.14
	GCC: 7.4.1

Fedora 31
	Kernel: 5.3.16
	GCC: 9.2.1

CentOS 8
	Kernel: 4.18.0.el8_0
	GCC: 8.2

https://lab.dpdk.org/results/dashboard/patchsets/9064/

UNH-IOL DPDK Community Lab

To manage your email subscriptions visit: 
https://lab.dpdk.org/results/dashboard/preferences/subscriptions/


More information about the test-report mailing list