[dpdk-test-report] |SUCCESS| pw64257 [PATCH] [v3] net/vhost: fix return value of vhost creates not checked

dpdklab at iol.unh.edu dpdklab at iol.unh.edu
Tue Jan 7 05:01:04 CET 2020


Test-Label: iol-testing
Test-Status: SUCCESS
http://dpdk.org/patch/64257

_Testing PASS_

Submitter: Yunjian Wang <wangyunjian at huawei.com>
Date: Tuesday, January 07 2020 03:25:48 
DPDK git baseline: Repo:dpdk
  Branch: master
  CommitID:10060dba6455461088d24e03d3cfeba639d53022

64257 --> testing pass

Test environment and result as below:

+------------------+--------------+------------------+--------------------+----------------+-------------------+
|   Environment    | dpdk_compile | dpdk_compile_ovs | dpdk_meson_compile | dpdk_unit_test | dpdk_compile_spdk |
+==================+==============+==================+====================+================+===================+
| FreeBSD 11.2     | PASS         | SKIPPED          | PASS               | SKIPPED        | PASS              |
+------------------+--------------+------------------+--------------------+----------------+-------------------+
| Ubuntu 18.04     | PASS         | PASS             | PASS               | PASS           | PASS              |
+------------------+--------------+------------------+--------------------+----------------+-------------------+
| openSUSE Leap 15 | PASS         | PASS             | PASS               | SKIPPED        | SKIPPED           |
+------------------+--------------+------------------+--------------------+----------------+-------------------+
| Fedora 31        | PASS         | PASS             | PASS               | SKIPPED        | SKIPPED           |
+------------------+--------------+------------------+--------------------+----------------+-------------------+
| CentOS 8         | PASS         | PASS             | PASS               | SKIPPED        | SKIPPED           |
+------------------+--------------+------------------+--------------------+----------------+-------------------+

FreeBSD 11.2
	Kernel: 11.2
	GCC: 8.3

Ubuntu 18.04
	Kernel: 4.15.0-generic
	GCC: 7.4

openSUSE Leap 15
	Kernel: 4.12.14
	GCC: 7.4.1

Fedora 31
	Kernel: 5.3.16
	GCC: 9.2.1

CentOS 8
	Kernel: 4.18.0.el8_0
	GCC: 8.2

https://lab.dpdk.org/results/dashboard/patchsets/9075/

UNH-IOL DPDK Community Lab

To manage your email subscriptions visit: 
https://lab.dpdk.org/results/dashboard/preferences/subscriptions/


More information about the test-report mailing list