[dpdk-test-report] |SUCCESS| pw64289 [PATCH] ci: pin meson to 0.52.0

dpdklab at iol.unh.edu dpdklab at iol.unh.edu
Wed Jan 8 16:04:25 CET 2020


Test-Label: iol-testing
Test-Status: SUCCESS
http://dpdk.org/patch/64289

_Testing PASS_

Submitter: David Marchand <david.marchand at redhat.com>
Date: Wednesday, January 08 2020 11:02:51 
DPDK git baseline: Repo:dpdk
  Branch: master
  CommitID:10060dba6455461088d24e03d3cfeba639d53022

64289 --> testing pass

Test environment and result as below:

+------------------+-------------------+------------------+--------------+----------------+--------------------+
|   Environment    | dpdk_compile_spdk | dpdk_compile_ovs | dpdk_compile | dpdk_unit_test | dpdk_meson_compile |
+==================+===================+==================+==============+================+====================+
| Ubuntu 18.04     | PASS              | PASS             | PASS         | PASS           | PASS               |
+------------------+-------------------+------------------+--------------+----------------+--------------------+
| FreeBSD 11.2     | PASS              | SKIPPED          | PASS         | SKIPPED        | PASS               |
+------------------+-------------------+------------------+--------------+----------------+--------------------+
| openSUSE Leap 15 | SKIPPED           | PASS             | PASS         | SKIPPED        | PASS               |
+------------------+-------------------+------------------+--------------+----------------+--------------------+
| Fedora 31        | SKIPPED           | PASS             | PASS         | SKIPPED        | PASS               |
+------------------+-------------------+------------------+--------------+----------------+--------------------+
| CentOS 8         | SKIPPED           | PASS             | PASS         | SKIPPED        | PASS               |
+------------------+-------------------+------------------+--------------+----------------+--------------------+

Ubuntu 18.04
	Kernel: 4.15.0-generic
	GCC: 7.4

FreeBSD 11.2
	Kernel: 11.2
	GCC: 8.3

openSUSE Leap 15
	Kernel: 4.12.14
	GCC: 7.4.1

Fedora 31
	Kernel: 5.3.16
	GCC: 9.2.1

CentOS 8
	Kernel: 4.18.0.el8_0
	GCC: 8.2

https://lab.dpdk.org/results/dashboard/patchsets/9093/

UNH-IOL DPDK Community Lab

To manage your email subscriptions visit: 
https://lab.dpdk.org/results/dashboard/preferences/subscriptions/


More information about the test-report mailing list