[dpdk-test-report] |SUCCESS| [GIT MASTER] c60f2c8041ab075a2c3dec5432350637cf8eb3db

dpdklab at iol.unh.edu dpdklab at iol.unh.edu
Wed Jan 8 23:14:54 CET 2020


_Testing PASS_

Branch: dpdk-next-net

c60f2c8041ab075a2c3dec5432350637cf8eb3db --> testing pass

Test environment and result as below:

+------------------+-------------------+--------------------+--------------+------------------+----------------+
|   Environment    | dpdk_compile_spdk | dpdk_meson_compile | dpdk_compile | dpdk_compile_ovs | dpdk_unit_test |
+==================+===================+====================+==============+==================+================+
| Ubuntu 18.04     | PASS              | PASS               | PASS         | PASS             | PASS           |
+------------------+-------------------+--------------------+--------------+------------------+----------------+
| FreeBSD 11.2     | PASS              | PASS               | PASS         | SKIPPED          | SKIPPED        |
+------------------+-------------------+--------------------+--------------+------------------+----------------+
| openSUSE Leap 15 | SKIPPED           | PASS               | PASS         | PASS             | SKIPPED        |
+------------------+-------------------+--------------------+--------------+------------------+----------------+
| CentOS 8         | SKIPPED           | PASS               | PASS         | PASS             | SKIPPED        |
+------------------+-------------------+--------------------+--------------+------------------+----------------+
| Fedora 31        | SKIPPED           | PASS               | PASS         | PASS             | SKIPPED        |
+------------------+-------------------+--------------------+--------------+------------------+----------------+

Ubuntu 18.04
	Kernel: 4.15.0-generic
	GCC: 7.4

FreeBSD 11.2
	Kernel: 11.2
	GCC: 8.3

openSUSE Leap 15
	Kernel: 4.12.14
	GCC: 7.4.1

CentOS 8
	Kernel: 4.18.0.el8_0
	GCC: 8.2

Fedora 31
	Kernel: 5.3.16
	GCC: 9.2.1

https://lab.dpdk.org/results/dashboard/tarballs/7663/

UNH-IOL DPDK Community Lab

To manage your email subscriptions visit: 
https://lab.dpdk.org/results/dashboard/preferences/subscriptions/


More information about the test-report mailing list