[dpdk-test-report] |SUCCESS| pw64397 [PATCH] ethdev: fix secondary process change share memory

dpdklab at iol.unh.edu dpdklab at iol.unh.edu
Fri Jan 10 10:43:01 CET 2020


Test-Label: iol-testing
Test-Status: SUCCESS
http://dpdk.org/patch/64397

_Testing PASS_

Submitter: Fang TongHao <fangtonghao at sangfor.com.cn>
Date: Thursday, January 09 2020 03:14:25 
DPDK git baseline: Repo:dpdk
  Branch: master
  CommitID:a02b9406a8769247737b55dbfa50b6b5f896d946

64397 --> testing pass

Test environment and result as below:

+------------------+-------------------+--------------+--------------------+------------------+----------------+
|   Environment    | dpdk_compile_spdk | dpdk_compile | dpdk_meson_compile | dpdk_compile_ovs | dpdk_unit_test |
+==================+===================+==============+====================+==================+================+
| FreeBSD 11.2     | PASS              | PASS         | PASS               | SKIPPED          | SKIPPED        |
+------------------+-------------------+--------------+--------------------+------------------+----------------+
| Ubuntu 18.04     | PASS              | PASS         | PASS               | PASS             | PASS           |
+------------------+-------------------+--------------+--------------------+------------------+----------------+
| openSUSE Leap 15 | SKIPPED           | PASS         | PASS               | PASS             | SKIPPED        |
+------------------+-------------------+--------------+--------------------+------------------+----------------+
| Fedora 31        | SKIPPED           | PASS         | PASS               | PASS             | SKIPPED        |
+------------------+-------------------+--------------+--------------------+------------------+----------------+
| CentOS 8         | SKIPPED           | PASS         | PASS               | PASS             | SKIPPED        |
+------------------+-------------------+--------------+--------------------+------------------+----------------+
| Arch Linux       | SKIPPED           | PASS         | PASS               | PASS             | SKIPPED        |
+------------------+-------------------+--------------+--------------------+------------------+----------------+

FreeBSD 11.2
	Kernel: 11.2
	GCC: 8.3

Ubuntu 18.04
	Kernel: 4.15.0-generic
	GCC: 7.4

openSUSE Leap 15
	Kernel: 4.12.14
	GCC: 7.4.1

Fedora 31
	Kernel: 5.3.16
	GCC: 9.2.1

CentOS 8
	Kernel: 4.18.0.el8_0
	GCC: 8.2

Arch Linux
	Kernel: latest
	GCC: latest

https://lab.dpdk.org/results/dashboard/patchsets/9123/

UNH-IOL DPDK Community Lab

To manage your email subscriptions visit: 
https://lab.dpdk.org/results/dashboard/preferences/subscriptions/


More information about the test-report mailing list