[dpdk-test-report] |SUCCESS| pw64438-64443 [PATCH] [v4, 1/6] kernel/linux/kni: fix meson warning about console keyword

dpdklab at iol.unh.edu dpdklab at iol.unh.edu
Fri Jan 10 23:32:50 CET 2020


Test-Label: iol-testing
Test-Status: SUCCESS
http://dpdk.org/patch/64438

_Testing PASS_

Submitter: Bruce Richardson <bruce.richardson at intel.com>
Date: Friday, January 10 2020 21:52:00 
DPDK git baseline: Repo:dpdk
  Branch: master
  CommitID:a02b9406a8769247737b55dbfa50b6b5f896d946

64438-64443 --> testing pass

Test environment and result as below:

+------------------+-------------------+--------------+------------------+----------------+--------------------+
|   Environment    | dpdk_compile_spdk | dpdk_compile | dpdk_compile_ovs | dpdk_unit_test | dpdk_meson_compile |
+==================+===================+==============+==================+================+====================+
| FreeBSD 11.2     | PASS              | PASS         | SKIPPED          | SKIPPED        | PASS               |
+------------------+-------------------+--------------+------------------+----------------+--------------------+
| Ubuntu 18.04     | PASS              | PASS         | PASS             | PASS           | PASS               |
+------------------+-------------------+--------------+------------------+----------------+--------------------+
| openSUSE Leap 15 | SKIPPED           | PASS         | PASS             | SKIPPED        | PASS               |
+------------------+-------------------+--------------+------------------+----------------+--------------------+
| Arch Linux       | SKIPPED           | PASS         | PASS             | SKIPPED        | PASS               |
+------------------+-------------------+--------------+------------------+----------------+--------------------+
| Fedora 31        | SKIPPED           | PASS         | PASS             | SKIPPED        | PASS               |
+------------------+-------------------+--------------+------------------+----------------+--------------------+
| CentOS 8         | SKIPPED           | PASS         | PASS             | SKIPPED        | PASS               |
+------------------+-------------------+--------------+------------------+----------------+--------------------+

FreeBSD 11.2
	Kernel: 11.2
	GCC: 8.3

Ubuntu 18.04
	Kernel: 4.15.0-generic
	GCC: 7.4

openSUSE Leap 15
	Kernel: 4.12.14
	GCC: 7.4.1

Arch Linux
	Kernel: latest
	GCC: latest

Fedora 31
	Kernel: 5.3.16
	GCC: 9.2.1

CentOS 8
	Kernel: 4.18.0.el8_0
	GCC: 8.2

To view detailed results, visit:
https://lab.dpdk.org/results/dashboard/patchsets/9130/

UNH-IOL DPDK Community Lab

To manage your email subscriptions, visit: 
https://lab.dpdk.org/results/dashboard/preferences/subscriptions/


More information about the test-report mailing list