[dpdk-test-report] |SUCCESS| pw64504-64512 [PATCH] [01/10] net/bnxt: handle flow create failure
dpdklab at iol.unh.edu
dpdklab at iol.unh.edu
Mon Jan 13 06:02:58 CET 2020
Test-Label: iol-testing
Test-Status: SUCCESS
http://dpdk.org/patch/64504
_Testing PASS_
Submitter: Kalesh A P <kalesh-anakkur.purayil at broadcom.com>
Date: Monday, January 13 2020 04:36:00
DPDK git baseline: Repo:dpdk-next-net-brcm
Branch: master
CommitID:450656fc399b85612b5942216e65acaaf78a7134
64504-64512 --> testing pass
Test environment and result as below:
+------------------+--------------------+------------------+--------------+-------------------+----------------+
| Environment | dpdk_meson_compile | dpdk_compile_ovs | dpdk_compile | dpdk_compile_spdk | dpdk_unit_test |
+==================+====================+==================+==============+===================+================+
| FreeBSD 11.2 | PASS | SKIPPED | PASS | PASS | SKIPPED |
+------------------+--------------------+------------------+--------------+-------------------+----------------+
| Ubuntu 18.04 | PASS | PASS | PASS | PASS | PASS |
+------------------+--------------------+------------------+--------------+-------------------+----------------+
| openSUSE Leap 15 | PASS | PASS | PASS | SKIPPED | SKIPPED |
+------------------+--------------------+------------------+--------------+-------------------+----------------+
| Fedora 31 | PASS | PASS | PASS | SKIPPED | SKIPPED |
+------------------+--------------------+------------------+--------------+-------------------+----------------+
| CentOS 8 | PASS | PASS | PASS | SKIPPED | SKIPPED |
+------------------+--------------------+------------------+--------------+-------------------+----------------+
| Arch Linux | PASS | PASS | PASS | SKIPPED | SKIPPED |
+------------------+--------------------+------------------+--------------+-------------------+----------------+
FreeBSD 11.2
Kernel: 11.2
GCC: 8.3
Ubuntu 18.04
Kernel: 4.15.0-generic
GCC: 7.4
openSUSE Leap 15
Kernel: 4.12.14
GCC: 7.4.1
Fedora 31
Kernel: 5.3.16
GCC: 9.2.1
CentOS 8
Kernel: 4.18.0.el8_0
GCC: 8.2
Arch Linux
Kernel: latest
GCC: latest
To view detailed results, visit:
https://lab.dpdk.org/results/dashboard/patchsets/9140/
UNH-IOL DPDK Community Lab
To manage your email subscriptions, visit:
https://lab.dpdk.org/results/dashboard/preferences/subscriptions/
More information about the test-report
mailing list