[dpdk-test-report] |SUCCESS| pw64545-64548 [PATCH] [v9, 1/4] net/i40e: cleanup Tx buffers

dpdklab at iol.unh.edu dpdklab at iol.unh.edu
Mon Jan 13 11:51:19 CET 2020


Test-Label: iol-testing
Test-Status: SUCCESS
http://dpdk.org/patch/64545

_Testing PASS_

Submitter: Chenxu Di <chenxux.di at intel.com>
Date: Monday, January 13 2020 09:57:05 
DPDK git baseline: Repo:dpdk
  Branch: master
  CommitID:a02b9406a8769247737b55dbfa50b6b5f896d946

64545-64548 --> testing pass

Test environment and result as below:

+------------------+-------------------+--------------+------------------+----------------+--------------------+
|   Environment    | dpdk_compile_spdk | dpdk_compile | dpdk_compile_ovs | dpdk_unit_test | dpdk_meson_compile |
+==================+===================+==============+==================+================+====================+
| Ubuntu 18.04     | PASS              | PASS         | PASS             | PASS           | PASS               |
+------------------+-------------------+--------------+------------------+----------------+--------------------+
| FreeBSD 11.2     | PASS              | PASS         | SKIPPED          | SKIPPED        | PASS               |
+------------------+-------------------+--------------+------------------+----------------+--------------------+
| openSUSE Leap 15 | SKIPPED           | PASS         | PASS             | SKIPPED        | PASS               |
+------------------+-------------------+--------------+------------------+----------------+--------------------+
| Arch Linux       | SKIPPED           | PASS         | PASS             | SKIPPED        | PASS               |
+------------------+-------------------+--------------+------------------+----------------+--------------------+
| Fedora 31        | SKIPPED           | PASS         | PASS             | SKIPPED        | PASS               |
+------------------+-------------------+--------------+------------------+----------------+--------------------+
| CentOS 8         | SKIPPED           | PASS         | PASS             | SKIPPED        | PASS               |
+------------------+-------------------+--------------+------------------+----------------+--------------------+

Ubuntu 18.04
	Kernel: 4.15.0-generic
	GCC: 7.4

FreeBSD 11.2
	Kernel: 11.2
	GCC: 8.3

openSUSE Leap 15
	Kernel: 4.12.14
	GCC: 7.4.1

Arch Linux
	Kernel: latest
	GCC: latest

Fedora 31
	Kernel: 5.3.16
	GCC: 9.2.1

CentOS 8
	Kernel: 4.18.0.el8_0
	GCC: 8.2

To view detailed results, visit:
https://lab.dpdk.org/results/dashboard/patchsets/9152/

UNH-IOL DPDK Community Lab

To manage your email subscriptions, visit: 
https://lab.dpdk.org/results/dashboard/preferences/subscriptions/


More information about the test-report mailing list