[dpdk-test-report] |SUCCESS| [GIT MASTER] 9d239e56ed1dc03b7e34f666ef53e99b789d5e72

dpdklab at iol.unh.edu dpdklab at iol.unh.edu
Mon Jan 13 20:42:21 CET 2020


_Testing PASS_

Branch: dpdk-next-virtio

9d239e56ed1dc03b7e34f666ef53e99b789d5e72 --> testing pass

Test environment and result as below:

+------------------+-------------------+--------------------+----------------+------------------+--------------+
|   Environment    | dpdk_compile_spdk | dpdk_meson_compile | dpdk_unit_test | dpdk_compile_ovs | dpdk_compile |
+==================+===================+====================+================+==================+==============+
| Ubuntu 18.04     | PASS              | PASS               | PASS           | PASS             | PASS         |
+------------------+-------------------+--------------------+----------------+------------------+--------------+
| FreeBSD 11.2     | PASS              | PASS               | SKIPPED        | SKIPPED          | PASS         |
+------------------+-------------------+--------------------+----------------+------------------+--------------+
| Arch Linux       | SKIPPED           | PASS               | SKIPPED        | PASS             | PASS         |
+------------------+-------------------+--------------------+----------------+------------------+--------------+
| openSUSE Leap 15 | SKIPPED           | PASS               | SKIPPED        | PASS             | PASS         |
+------------------+-------------------+--------------------+----------------+------------------+--------------+
| Fedora 31        | SKIPPED           | PASS               | SKIPPED        | PASS             | PASS         |
+------------------+-------------------+--------------------+----------------+------------------+--------------+
| CentOS 8         | SKIPPED           | PASS               | SKIPPED        | PASS             | PASS         |
+------------------+-------------------+--------------------+----------------+------------------+--------------+

Ubuntu 18.04
	Kernel: 4.15.0-generic
	GCC: 7.4

FreeBSD 11.2
	Kernel: 11.2
	GCC: 8.3

Arch Linux
	Kernel: latest
	GCC: latest

openSUSE Leap 15
	Kernel: 4.12.14
	GCC: 7.4.1

Fedora 31
	Kernel: 5.3.16
	GCC: 9.2.1

CentOS 8
	Kernel: 4.18.0.el8_0
	GCC: 8.2

To view detailed results, visit:
https://lab.dpdk.org/results/dashboard/tarballs/7723/

UNH-IOL DPDK Community Lab

To manage your email subscriptions, visit: 
https://lab.dpdk.org/results/dashboard/preferences/subscriptions/


More information about the test-report mailing list