[dpdk-test-report] |SUCCESS| pw64603-64612 [PATCH] [v3, 01/10] net/bnxt: handle flow create failure
dpdklab at iol.unh.edu
dpdklab at iol.unh.edu
Tue Jan 14 07:21:07 CET 2020
Test-Label: iol-testing
Test-Status: SUCCESS
http://dpdk.org/patch/64603
_Testing PASS_
Submitter: Ajit Khaparde <ajit.khaparde at broadcom.com>
Date: Tuesday, January 14 2020 05:14:26
DPDK git baseline: Repo:dpdk-next-net-brcm
Branch: master
CommitID:450656fc399b85612b5942216e65acaaf78a7134
64603-64612 --> testing pass
Test environment and result as below:
+------------------+-------------------+--------------------+--------------+------------------+----------------+
| Environment | dpdk_compile_spdk | dpdk_meson_compile | dpdk_compile | dpdk_compile_ovs | dpdk_unit_test |
+==================+===================+====================+==============+==================+================+
| Ubuntu 18.04 | PASS | PASS | PASS | PASS | PASS |
+------------------+-------------------+--------------------+--------------+------------------+----------------+
| FreeBSD 11.2 | PASS | PASS | PASS | SKIPPED | SKIPPED |
+------------------+-------------------+--------------------+--------------+------------------+----------------+
| openSUSE Leap 15 | SKIPPED | PASS | PASS | PASS | SKIPPED |
+------------------+-------------------+--------------------+--------------+------------------+----------------+
| Arch Linux | SKIPPED | PASS | PASS | PASS | SKIPPED |
+------------------+-------------------+--------------------+--------------+------------------+----------------+
| Fedora 31 | SKIPPED | PASS | PASS | PASS | SKIPPED |
+------------------+-------------------+--------------------+--------------+------------------+----------------+
| CentOS 8 | SKIPPED | PASS | PASS | PASS | SKIPPED |
+------------------+-------------------+--------------------+--------------+------------------+----------------+
Ubuntu 18.04
Kernel: 4.15.0-generic
GCC: 7.4
FreeBSD 11.2
Kernel: 11.2
GCC: 8.3
openSUSE Leap 15
Kernel: 4.12.14
GCC: 7.4.1
Arch Linux
Kernel: latest
GCC: latest
Fedora 31
Kernel: 5.3.16
GCC: 9.2.1
CentOS 8
Kernel: 4.18.0.el8_0
GCC: 8.2
To view detailed results, visit:
https://lab.dpdk.org/results/dashboard/patchsets/9171/
UNH-IOL DPDK Community Lab
To manage your email subscriptions, visit:
https://lab.dpdk.org/results/dashboard/preferences/subscriptions/
More information about the test-report
mailing list