[dpdk-test-report] |SUCCESS| pw64632 [PATCH] [v2] net/mlx5: optimize Rx hash fields conversion
dpdklab at iol.unh.edu
dpdklab at iol.unh.edu
Tue Jan 14 11:22:23 CET 2020
Test-Label: iol-testing
Test-Status: SUCCESS
http://dpdk.org/patch/64632
_Testing PASS_
Submitter: Dekel Peled <dekelp at mellanox.com>
Date: Tuesday, January 14 2020 09:18:22
DPDK git baseline: Repo:dpdk-next-net-mlx
Branch: master
CommitID:dd36f584c80b6d0b05c9264eb1566b6a5b6d29f4
64632 --> testing pass
Test environment and result as below:
+------------------+-------------------+------------------+----------------+--------------+--------------------+
| Environment | dpdk_compile_spdk | dpdk_compile_ovs | dpdk_unit_test | dpdk_compile | dpdk_meson_compile |
+==================+===================+==================+================+==============+====================+
| Ubuntu 18.04 | PASS | PASS | PASS | PASS | PASS |
+------------------+-------------------+------------------+----------------+--------------+--------------------+
| FreeBSD 11.2 | PASS | SKIPPED | SKIPPED | PASS | PASS |
+------------------+-------------------+------------------+----------------+--------------+--------------------+
| openSUSE Leap 15 | SKIPPED | PASS | SKIPPED | PASS | PASS |
+------------------+-------------------+------------------+----------------+--------------+--------------------+
| Arch Linux | SKIPPED | PASS | SKIPPED | PASS | PASS |
+------------------+-------------------+------------------+----------------+--------------+--------------------+
| Fedora 31 | SKIPPED | PASS | SKIPPED | PASS | PASS |
+------------------+-------------------+------------------+----------------+--------------+--------------------+
| CentOS 8 | SKIPPED | PASS | SKIPPED | PASS | PASS |
+------------------+-------------------+------------------+----------------+--------------+--------------------+
Ubuntu 18.04
Kernel: 4.15.0-generic
GCC: 7.4
FreeBSD 11.2
Kernel: 11.2
GCC: 8.3
openSUSE Leap 15
Kernel: 4.12.14
GCC: 7.4.1
Arch Linux
Kernel: latest
GCC: latest
Fedora 31
Kernel: 5.3.16
GCC: 9.2.1
CentOS 8
Kernel: 4.18.0.el8_0
GCC: 8.2
To view detailed results, visit:
https://lab.dpdk.org/results/dashboard/patchsets/9181/
UNH-IOL DPDK Community Lab
To manage your email subscriptions, visit:
https://lab.dpdk.org/results/dashboard/preferences/subscriptions/
More information about the test-report
mailing list