[dpdk-test-report] |SUCCESS| pw64651 [PATCH] [v2] maintainers: set git tree for packet framework and QoS

dpdklab at iol.unh.edu dpdklab at iol.unh.edu
Wed Jan 15 01:19:33 CET 2020


Test-Label: iol-testing
Test-Status: SUCCESS
http://dpdk.org/patch/64651

_Testing PASS_

Submitter: David Marchand <david.marchand at redhat.com>
Date: Tuesday, January 14 2020 13:09:02 
DPDK git baseline: Repo:dpdk
  Branch: master
  CommitID:31bb45bcfdf5d67737eab17747b383775c9c36ae

64651 --> testing pass

Test environment and result as below:

+------------------+-------------------+--------------+----------------+--------------------+------------------+
|   Environment    | dpdk_compile_spdk | dpdk_compile | dpdk_unit_test | dpdk_meson_compile | dpdk_compile_ovs |
+==================+===================+==============+================+====================+==================+
| Ubuntu 18.04     | PASS              | PASS         | PASS           | PASS               | PASS             |
+------------------+-------------------+--------------+----------------+--------------------+------------------+
| FreeBSD 11.2     | PASS              | PASS         | SKIPPED        | PASS               | SKIPPED          |
+------------------+-------------------+--------------+----------------+--------------------+------------------+
| openSUSE Leap 15 | SKIPPED           | PASS         | SKIPPED        | PASS               | PASS             |
+------------------+-------------------+--------------+----------------+--------------------+------------------+
| Arch Linux       | SKIPPED           | PASS         | SKIPPED        | PASS               | PASS             |
+------------------+-------------------+--------------+----------------+--------------------+------------------+
| Fedora 31        | SKIPPED           | PASS         | SKIPPED        | PASS               | PASS             |
+------------------+-------------------+--------------+----------------+--------------------+------------------+
| CentOS 8         | SKIPPED           | PASS         | SKIPPED        | PASS               | PASS             |
+------------------+-------------------+--------------+----------------+--------------------+------------------+

Ubuntu 18.04
	Kernel: 4.15.0-generic
	GCC: 7.4

FreeBSD 11.2
	Kernel: 11.2
	GCC: 8.3

openSUSE Leap 15
	Kernel: 4.12.14
	GCC: 7.4.1

Arch Linux
	Kernel: latest
	GCC: latest

Fedora 31
	Kernel: 5.3.16
	GCC: 9.2.1

CentOS 8
	Kernel: 4.18.0.el8_0
	GCC: 8.2

To view detailed results, visit:
https://lab.dpdk.org/results/dashboard/patchsets/9191/

UNH-IOL DPDK Community Lab

To manage your email subscriptions, visit: 
https://lab.dpdk.org/results/dashboard/preferences/subscriptions/


More information about the test-report mailing list