[dpdk-test-report] |SUCCESS| pw64650-64648 [PATCH] [v2, 1/4] net/iavf: unify the bool type value
dpdklab at iol.unh.edu
dpdklab at iol.unh.edu
Wed Jan 15 01:38:35 CET 2020
Test-Label: iol-testing
Test-Status: SUCCESS
http://dpdk.org/patch/64650
_Testing PASS_
Submitter: Haiyue Wang <haiyue.wang at intel.com>
Date: Tuesday, January 14 2020 12:01:27
DPDK git baseline: Repo:dpdk-next-net-intel
Branch: master
CommitID:238c5b39007f76e5c86e361641e1f312321c7fe6
64650-64648 --> testing pass
Test environment and result as below:
+------------------+-------------------+--------------------+--------------+------------------+----------------+
| Environment | dpdk_compile_spdk | dpdk_meson_compile | dpdk_compile | dpdk_compile_ovs | dpdk_unit_test |
+==================+===================+====================+==============+==================+================+
| Ubuntu 18.04 | PASS | PASS | PASS | PASS | PASS |
+------------------+-------------------+--------------------+--------------+------------------+----------------+
| FreeBSD 11.2 | PASS | PASS | PASS | SKIPPED | SKIPPED |
+------------------+-------------------+--------------------+--------------+------------------+----------------+
| openSUSE Leap 15 | SKIPPED | PASS | PASS | PASS | SKIPPED |
+------------------+-------------------+--------------------+--------------+------------------+----------------+
| Arch Linux | SKIPPED | PASS | PASS | PASS | SKIPPED |
+------------------+-------------------+--------------------+--------------+------------------+----------------+
| Fedora 31 | SKIPPED | PASS | PASS | PASS | SKIPPED |
+------------------+-------------------+--------------------+--------------+------------------+----------------+
| CentOS 8 | SKIPPED | PASS | PASS | PASS | SKIPPED |
+------------------+-------------------+--------------------+--------------+------------------+----------------+
Ubuntu 18.04
Kernel: 4.15.0-generic
GCC: 7.4
FreeBSD 11.2
Kernel: 11.2
GCC: 8.3
openSUSE Leap 15
Kernel: 4.12.14
GCC: 7.4.1
Arch Linux
Kernel: latest
GCC: latest
Fedora 31
Kernel: 5.3.16
GCC: 9.2.1
CentOS 8
Kernel: 4.18.0.el8_0
GCC: 8.2
To view detailed results, visit:
https://lab.dpdk.org/results/dashboard/patchsets/9190/
UNH-IOL DPDK Community Lab
To manage your email subscriptions, visit:
https://lab.dpdk.org/results/dashboard/preferences/subscriptions/
More information about the test-report
mailing list