[dpdk-test-report] |SUCCESS| pw64714-64726 [PATCH] [v6, 01/13] app/testpmd: parse flow command line for ESP

dpdklab at iol.unh.edu dpdklab at iol.unh.edu
Thu Jan 16 02:47:38 CET 2020


Test-Label: iol-testing
Test-Status: SUCCESS
http://dpdk.org/patch/64714

_Testing PASS_

Submitter: Iremonger, Bernard <bernard.iremonger at intel.com>
Date: Wednesday, January 15 2020 15:53:35 
DPDK git baseline: Repo:dpdk
  Branch: master
  CommitID:31bb45bcfdf5d67737eab17747b383775c9c36ae

64714-64726 --> testing pass

Test environment and result as below:

+------------------+-------------------+----------------+------------------+--------------+--------------------+
|   Environment    | dpdk_compile_spdk | dpdk_unit_test | dpdk_compile_ovs | dpdk_compile | dpdk_meson_compile |
+==================+===================+================+==================+==============+====================+
| Ubuntu 18.04     | PASS              | PASS           | PASS             | PASS         | PASS               |
+------------------+-------------------+----------------+------------------+--------------+--------------------+
| FreeBSD 11.2     | PASS              | SKIPPED        | SKIPPED          | PASS         | PASS               |
+------------------+-------------------+----------------+------------------+--------------+--------------------+
| openSUSE Leap 15 | SKIPPED           | SKIPPED        | PASS             | PASS         | PASS               |
+------------------+-------------------+----------------+------------------+--------------+--------------------+
| Arch Linux       | SKIPPED           | SKIPPED        | PASS             | PASS         | PASS               |
+------------------+-------------------+----------------+------------------+--------------+--------------------+
| Fedora 31        | SKIPPED           | SKIPPED        | PASS             | PASS         | PASS               |
+------------------+-------------------+----------------+------------------+--------------+--------------------+
| CentOS 8         | SKIPPED           | SKIPPED        | PASS             | PASS         | PASS               |
+------------------+-------------------+----------------+------------------+--------------+--------------------+

Ubuntu 18.04
	Kernel: 4.15.0-generic
	GCC: 7.4

FreeBSD 11.2
	Kernel: 11.2
	GCC: 8.3

openSUSE Leap 15
	Kernel: 4.12.14
	GCC: 7.4.1

Arch Linux
	Kernel: latest
	GCC: latest

Fedora 31
	Kernel: 5.3.16
	GCC: 9.2.1

CentOS 8
	Kernel: 4.18.0.el8_0
	GCC: 8.2

To view detailed results, visit:
https://lab.dpdk.org/results/dashboard/patchsets/9211/

UNH-IOL DPDK Community Lab

To manage your email subscriptions, visit: 
https://lab.dpdk.org/results/dashboard/preferences/subscriptions/


More information about the test-report mailing list