[dpdk-test-report] |SUCCESS| pw64696-64699 [PATCH] [v2, 1/4] cryptodev: support ECDSA

dpdklab at iol.unh.edu dpdklab at iol.unh.edu
Thu Jan 16 15:35:13 CET 2020


Test-Label: iol-testing
Test-Status: SUCCESS
http://dpdk.org/patch/64696

_Testing PASS_

Submitter: Anoob Joseph <anoobj at marvell.com>
Date: Wednesday, January 15 2020 12:43:36 
DPDK git baseline: Repo:dpdk
  Branch: master
  CommitID:bbfc94efcafab236339cd1ec73bb523275d52c60

64696-64699 --> testing pass

Test environment and result as below:

+------------------+-------------------+--------------+----------------+------------------+--------------------+
|   Environment    | dpdk_compile_spdk | dpdk_compile | dpdk_unit_test | dpdk_compile_ovs | dpdk_meson_compile |
+==================+===================+==============+================+==================+====================+
| Ubuntu 18.04     | PASS              | PASS         | PASS           | PASS             | PASS               |
+------------------+-------------------+--------------+----------------+------------------+--------------------+
| FreeBSD 11.2     | PASS              | PASS         | SKIPPED        | SKIPPED          | PASS               |
+------------------+-------------------+--------------+----------------+------------------+--------------------+
| openSUSE Leap 15 | SKIPPED           | PASS         | SKIPPED        | PASS             | PASS               |
+------------------+-------------------+--------------+----------------+------------------+--------------------+
| Arch Linux       | SKIPPED           | PASS         | SKIPPED        | PASS             | PASS               |
+------------------+-------------------+--------------+----------------+------------------+--------------------+
| Fedora 31        | SKIPPED           | PASS         | SKIPPED        | PASS             | PASS               |
+------------------+-------------------+--------------+----------------+------------------+--------------------+
| CentOS 8         | SKIPPED           | PASS         | SKIPPED        | PASS             | PASS               |
+------------------+-------------------+--------------+----------------+------------------+--------------------+

Ubuntu 18.04
	Kernel: 4.15.0-generic
	GCC: 7.4

FreeBSD 11.2
	Kernel: 11.2
	GCC: 8.3

openSUSE Leap 15
	Kernel: 4.12.14
	GCC: 7.4.1

Arch Linux
	Kernel: latest
	GCC: latest

Fedora 31
	Kernel: 5.3.16
	GCC: 9.2.1

CentOS 8
	Kernel: 4.18.0.el8_0
	GCC: 8.3.1

To view detailed results, visit:
https://lab.dpdk.org/results/dashboard/patchsets/9207/

UNH-IOL DPDK Community Lab

To manage your email subscriptions, visit: 
https://lab.dpdk.org/results/dashboard/preferences/subscriptions/


More information about the test-report mailing list