[dpdk-test-report] |SUCCESS| pw64739 [PATCH] net/i40e: fix X722 judgement when disable adminq operation

dpdklab at iol.unh.edu dpdklab at iol.unh.edu
Thu Jan 16 16:12:47 CET 2020


Test-Label: iol-testing
Test-Status: SUCCESS
http://dpdk.org/patch/64739

_Testing PASS_

Submitter: Zhike Wang <wangzhike at jd.com>
Date: Thursday, January 16 2020 01:19:57 
DPDK git baseline: Repo:dpdk
  Branch: master
  CommitID:bbfc94efcafab236339cd1ec73bb523275d52c60

64739 --> testing pass

Test environment and result as below:

+------------------+-------------------+--------------+--------------------+------------------+----------------+
|   Environment    | dpdk_compile_spdk | dpdk_compile | dpdk_meson_compile | dpdk_compile_ovs | dpdk_unit_test |
+==================+===================+==============+====================+==================+================+
| Ubuntu 18.04     | PASS              | PASS         | PASS               | PASS             | PASS           |
+------------------+-------------------+--------------+--------------------+------------------+----------------+
| FreeBSD 11.2     | PASS              | PASS         | PASS               | SKIPPED          | SKIPPED        |
+------------------+-------------------+--------------+--------------------+------------------+----------------+
| openSUSE Leap 15 | SKIPPED           | PASS         | PASS               | PASS             | SKIPPED        |
+------------------+-------------------+--------------+--------------------+------------------+----------------+
| Fedora 31        | SKIPPED           | PASS         | PASS               | PASS             | SKIPPED        |
+------------------+-------------------+--------------+--------------------+------------------+----------------+
| CentOS 8         | SKIPPED           | PASS         | PASS               | PASS             | SKIPPED        |
+------------------+-------------------+--------------+--------------------+------------------+----------------+
| Arch Linux       | SKIPPED           | PASS         | PASS               | PASS             | SKIPPED        |
+------------------+-------------------+--------------+--------------------+------------------+----------------+

Ubuntu 18.04
	Kernel: 4.15.0-generic
	GCC: 7.4

FreeBSD 11.2
	Kernel: 11.2
	GCC: 8.3

openSUSE Leap 15
	Kernel: 4.12.14
	GCC: 7.4.1

Fedora 31
	Kernel: 5.3.16
	GCC: 9.2.1

CentOS 8
	Kernel: 4.18.0.el8_0
	GCC: 8.3.1

Arch Linux
	Kernel: latest
	GCC: latest

To view detailed results, visit:
https://lab.dpdk.org/results/dashboard/patchsets/9215/

UNH-IOL DPDK Community Lab

To manage your email subscriptions, visit: 
https://lab.dpdk.org/results/dashboard/preferences/subscriptions/


More information about the test-report mailing list