[dpdk-test-report] |SUCCESS| pw64787 [PATCH] [v7, 02/10] app/testpmd: improve debug

dpdklab at iol.unh.edu dpdklab at iol.unh.edu
Thu Jan 16 20:46:35 CET 2020


Test-Label: iol-testing
Test-Status: SUCCESS
http://dpdk.org/patch/64787

_Testing PASS_

Submitter: Bernard Iremonger <bernard.iremonger at intel.com>
Date: Thursday, January 16 2020 12:44:49 
DPDK git baseline: Repo:dpdk
  Branch: master
  CommitID:bbfc94efcafab236339cd1ec73bb523275d52c60

64787 --> testing pass

Test environment and result as below:

+------------------+-------------------+------------------+--------------+--------------------+----------------+
|   Environment    | dpdk_compile_spdk | dpdk_compile_ovs | dpdk_compile | dpdk_meson_compile | dpdk_unit_test |
+==================+===================+==================+==============+====================+================+
| FreeBSD 11.2     | PASS              | SKIPPED          | PASS         | PASS               | SKIPPED        |
+------------------+-------------------+------------------+--------------+--------------------+----------------+
| Ubuntu 18.04     | PASS              | PASS             | PASS         | PASS               | PASS           |
+------------------+-------------------+------------------+--------------+--------------------+----------------+
| openSUSE Leap 15 | SKIPPED           | PASS             | PASS         | PASS               | SKIPPED        |
+------------------+-------------------+------------------+--------------+--------------------+----------------+
| Arch Linux       | SKIPPED           | PASS             | PASS         | PASS               | SKIPPED        |
+------------------+-------------------+------------------+--------------+--------------------+----------------+
| Fedora 31        | SKIPPED           | PASS             | PASS         | PASS               | SKIPPED        |
+------------------+-------------------+------------------+--------------+--------------------+----------------+
| CentOS 8         | SKIPPED           | PASS             | PASS         | PASS               | SKIPPED        |
+------------------+-------------------+------------------+--------------+--------------------+----------------+

FreeBSD 11.2
	Kernel: 11.2
	GCC: 8.3

Ubuntu 18.04
	Kernel: 4.15.0-generic
	GCC: 7.4

openSUSE Leap 15
	Kernel: 4.12.14
	GCC: 7.4.1

Arch Linux
	Kernel: latest
	GCC: latest

Fedora 31
	Kernel: 5.3.16
	GCC: 9.2.1

CentOS 8
	Kernel: 4.18.0.el8_0
	GCC: 8.3.1

To view detailed results, visit:
https://lab.dpdk.org/results/dashboard/patchsets/9233/

UNH-IOL DPDK Community Lab

To manage your email subscriptions, visit: 
https://lab.dpdk.org/results/dashboard/preferences/subscriptions/


More information about the test-report mailing list