[dpdk-test-report] |SUCCESS| pw64819 [PATCH] [v3] Fixes: ethdev: secondary process change shared memory

dpdklab at iol.unh.edu dpdklab at iol.unh.edu
Fri Jan 17 05:07:03 CET 2020


Test-Label: iol-testing
Test-Status: SUCCESS
http://dpdk.org/patch/64819

_Testing PASS_

Submitter: 方统浩50450 <fangtonghao at sangfor.com.cn>
Date: Friday, January 17 2020 02:08:04 
DPDK git baseline: Repo:dpdk
  Branch: master
  CommitID:b88632f9fdd0a8782918bb2ba07478cdae6aa010

64819 --> testing pass

Test environment and result as below:

+------------------+--------------+-------------------+----------------+--------------------+------------------+
|   Environment    | dpdk_compile | dpdk_compile_spdk | dpdk_unit_test | dpdk_meson_compile | dpdk_compile_ovs |
+==================+==============+===================+================+====================+==================+
| Ubuntu 18.04     | PASS         | PASS              | PASS           | PASS               | PASS             |
+------------------+--------------+-------------------+----------------+--------------------+------------------+
| openSUSE Leap 15 | PASS         | SKIPPED           | SKIPPED        | PASS               | PASS             |
+------------------+--------------+-------------------+----------------+--------------------+------------------+
| FreeBSD 11.2     | PASS         | PASS              | SKIPPED        | PASS               | SKIPPED          |
+------------------+--------------+-------------------+----------------+--------------------+------------------+
| Arch Linux       | PASS         | SKIPPED           | SKIPPED        | PASS               | PASS             |
+------------------+--------------+-------------------+----------------+--------------------+------------------+
| Fedora 31        | PASS         | SKIPPED           | SKIPPED        | PASS               | PASS             |
+------------------+--------------+-------------------+----------------+--------------------+------------------+
| CentOS 8         | PASS         | SKIPPED           | SKIPPED        | PASS               | PASS             |
+------------------+--------------+-------------------+----------------+--------------------+------------------+

Ubuntu 18.04
	Kernel: 4.15.0-generic
	GCC: 7.4

openSUSE Leap 15
	Kernel: 4.12.14
	GCC: 7.4.1

FreeBSD 11.2
	Kernel: 11.2
	GCC: 8.3

Arch Linux
	Kernel: latest
	GCC: latest

Fedora 31
	Kernel: 5.3.16
	GCC: 9.2.1

CentOS 8
	Kernel: 4.18.0.el8_0
	GCC: 8.3.1

To view detailed results, visit:
https://lab.dpdk.org/results/dashboard/patchsets/9250/

UNH-IOL DPDK Community Lab

To manage your email subscriptions, visit: 
https://lab.dpdk.org/results/dashboard/preferences/subscriptions/


More information about the test-report mailing list