[dpdk-test-report] |SUCCESS| pw64838-64842 [PATCH] [v2, 1/5] ethdev: add API to dump device internal flow info
dpdklab at iol.unh.edu
dpdklab at iol.unh.edu
Fri Jan 17 13:57:45 CET 2020
Test-Label: iol-testing
Test-Status: SUCCESS
http://dpdk.org/patch/64838
_Testing PASS_
Submitter: Xiaoyu Min <jackmin at mellanox.com>
Date: Friday, January 17 2020 11:55:59
DPDK git baseline: Repo:dpdk
Branch: master
CommitID:b88632f9fdd0a8782918bb2ba07478cdae6aa010
64838-64842 --> testing pass
Test environment and result as below:
+------------------+-------------------+--------------+----------------+--------------------+------------------+
| Environment | dpdk_compile_spdk | dpdk_compile | dpdk_unit_test | dpdk_meson_compile | dpdk_compile_ovs |
+==================+===================+==============+================+====================+==================+
| Ubuntu 18.04 | PASS | PASS | PASS | PASS | PASS |
+------------------+-------------------+--------------+----------------+--------------------+------------------+
| FreeBSD 11.2 | PASS | PASS | SKIPPED | PASS | SKIPPED |
+------------------+-------------------+--------------+----------------+--------------------+------------------+
| openSUSE Leap 15 | SKIPPED | PASS | SKIPPED | PASS | PASS |
+------------------+-------------------+--------------+----------------+--------------------+------------------+
| Fedora 31 | SKIPPED | PASS | SKIPPED | PASS | PASS |
+------------------+-------------------+--------------+----------------+--------------------+------------------+
| CentOS 8 | SKIPPED | PASS | SKIPPED | PASS | PASS |
+------------------+-------------------+--------------+----------------+--------------------+------------------+
| Arch Linux | SKIPPED | PASS | SKIPPED | PASS | PASS |
+------------------+-------------------+--------------+----------------+--------------------+------------------+
Ubuntu 18.04
Kernel: 4.15.0-generic
GCC: 7.4
FreeBSD 11.2
Kernel: 11.2
GCC: 8.3
openSUSE Leap 15
Kernel: 4.12.14
GCC: 7.4.1
Fedora 31
Kernel: 5.3.16
GCC: 9.2.1
CentOS 8
Kernel: 4.18.0.el8_0
GCC: 8.3.1
Arch Linux
Kernel: latest
GCC: latest
To view detailed results, visit:
https://lab.dpdk.org/results/dashboard/patchsets/9265/
UNH-IOL DPDK Community Lab
To manage your email subscriptions, visit:
https://lab.dpdk.org/results/dashboard/preferences/subscriptions/
More information about the test-report
mailing list