[dpdk-test-report] |SUCCESS| pw64836 [PATCH] [v3] ethdev: fix VLAN offloads set if no driver callback

dpdklab at iol.unh.edu dpdklab at iol.unh.edu
Fri Jan 17 15:00:18 CET 2020


Test-Label: iol-testing
Test-Status: SUCCESS
http://dpdk.org/patch/64836

_Testing PASS_

Submitter: Wei Hu (Xavier) <huwei013 at chinasoftinc.com>
Date: Friday, January 17 2020 11:49:14 
DPDK git baseline: Repo:dpdk
  Branch: master
  CommitID:b88632f9fdd0a8782918bb2ba07478cdae6aa010

64836 --> testing pass

Test environment and result as below:

+------------------+-------------------+----------------+------------------+--------------+--------------------+
|   Environment    | dpdk_compile_spdk | dpdk_unit_test | dpdk_compile_ovs | dpdk_compile | dpdk_meson_compile |
+==================+===================+================+==================+==============+====================+
| Ubuntu 18.04     | PASS              | PASS           | PASS             | PASS         | PASS               |
+------------------+-------------------+----------------+------------------+--------------+--------------------+
| FreeBSD 11.2     | PASS              | SKIPPED        | SKIPPED          | PASS         | PASS               |
+------------------+-------------------+----------------+------------------+--------------+--------------------+
| openSUSE Leap 15 | SKIPPED           | SKIPPED        | PASS             | PASS         | PASS               |
+------------------+-------------------+----------------+------------------+--------------+--------------------+
| Arch Linux       | SKIPPED           | SKIPPED        | PASS             | PASS         | PASS               |
+------------------+-------------------+----------------+------------------+--------------+--------------------+
| Fedora 31        | SKIPPED           | SKIPPED        | PASS             | PASS         | PASS               |
+------------------+-------------------+----------------+------------------+--------------+--------------------+

Ubuntu 18.04
	Kernel: 4.15.0-generic
	GCC: 7.4

FreeBSD 11.2
	Kernel: 11.2
	GCC: 8.3

openSUSE Leap 15
	Kernel: 4.12.14
	GCC: 7.4.1

Arch Linux
	Kernel: latest
	GCC: latest

Fedora 31
	Kernel: 5.3.16
	GCC: 9.2.1

To view detailed results, visit:
https://lab.dpdk.org/results/dashboard/patchsets/9264/

UNH-IOL DPDK Community Lab

To manage your email subscriptions, visit: 
https://lab.dpdk.org/results/dashboard/preferences/subscriptions/


More information about the test-report mailing list