[dpdk-test-report] |SUCCESS| pw64853 [PATCH] [v2] config: disable all kmods by default from v20.02
dpdklab at iol.unh.edu
dpdklab at iol.unh.edu
Fri Jan 17 21:08:09 CET 2020
Test-Label: iol-testing
Test-Status: SUCCESS
http://dpdk.org/patch/64853
_Testing PASS_
Submitter: Jerin Jacob Kollanukkaran <jerinj at marvell.com>
Date: Friday, January 17 2020 19:14:00
DPDK git baseline: Repo:dpdk
Branch: master
CommitID:b88632f9fdd0a8782918bb2ba07478cdae6aa010
64853 --> testing pass
Test environment and result as below:
+------------------+-------------------+--------------+------------------+----------------+--------------------+
| Environment | dpdk_compile_spdk | dpdk_compile | dpdk_compile_ovs | dpdk_unit_test | dpdk_meson_compile |
+==================+===================+==============+==================+================+====================+
| Ubuntu 18.04 | PASS | PASS | PASS | PASS | PASS |
+------------------+-------------------+--------------+------------------+----------------+--------------------+
| FreeBSD 11.2 | PASS | PASS | SKIPPED | SKIPPED | PASS |
+------------------+-------------------+--------------+------------------+----------------+--------------------+
| Arch Linux | SKIPPED | PASS | PASS | SKIPPED | PASS |
+------------------+-------------------+--------------+------------------+----------------+--------------------+
| openSUSE Leap 15 | SKIPPED | PASS | PASS | SKIPPED | PASS |
+------------------+-------------------+--------------+------------------+----------------+--------------------+
| Fedora 31 | SKIPPED | PASS | PASS | SKIPPED | PASS |
+------------------+-------------------+--------------+------------------+----------------+--------------------+
| CentOS 8 | SKIPPED | PASS | PASS | SKIPPED | PASS |
+------------------+-------------------+--------------+------------------+----------------+--------------------+
Ubuntu 18.04
Kernel: 4.15.0-generic
GCC: 7.4
FreeBSD 11.2
Kernel: 11.2
GCC: 8.3
Arch Linux
Kernel: latest
GCC: latest
openSUSE Leap 15
Kernel: 4.12.14
GCC: 7.4.1
Fedora 31
Kernel: 5.3.16
GCC: 9.2.1
CentOS 8
Kernel: 4.18.0.el8_0
GCC: 8.3.1
To view detailed results, visit:
https://lab.dpdk.org/results/dashboard/patchsets/9270/
UNH-IOL DPDK Community Lab
To manage your email subscriptions, visit:
https://lab.dpdk.org/results/dashboard/preferences/subscriptions/
More information about the test-report
mailing list