[dpdk-test-report] |SUCCESS| [GIT MASTER] b313e3ac5459ab5fea0568dcefe0e23e2c4f67b3

dpdklab at iol.unh.edu dpdklab at iol.unh.edu
Tue Jan 21 03:51:48 CET 2020


_Testing PASS_

Branch: dpdk-next-net-brcm

b313e3ac5459ab5fea0568dcefe0e23e2c4f67b3 --> testing pass

Test environment and result as below:

+------------------+--------------+--------------------+----------------+-------------------+------------------+
|   Environment    | dpdk_compile | dpdk_meson_compile | dpdk_unit_test | dpdk_compile_spdk | dpdk_compile_ovs |
+==================+==============+====================+================+===================+==================+
| FreeBSD 11.2     | PASS         | PASS               | SKIPPED        | PASS              | SKIPPED          |
+------------------+--------------+--------------------+----------------+-------------------+------------------+
| Ubuntu 18.04     | PASS         | PASS               | PASS           | PASS              | PASS             |
+------------------+--------------+--------------------+----------------+-------------------+------------------+
| openSUSE Leap 15 | PASS         | PASS               | SKIPPED        | SKIPPED           | PASS             |
+------------------+--------------+--------------------+----------------+-------------------+------------------+
| Arch Linux       | PASS         | PASS               | SKIPPED        | SKIPPED           | PASS             |
+------------------+--------------+--------------------+----------------+-------------------+------------------+
| Fedora 31        | PASS         | PASS               | SKIPPED        | SKIPPED           | PASS             |
+------------------+--------------+--------------------+----------------+-------------------+------------------+

FreeBSD 11.2
	Kernel: 11.2
	GCC: 8.3

Ubuntu 18.04
	Kernel: 4.15.0-generic
	GCC: 7.4

openSUSE Leap 15
	Kernel: 4.12.14
	GCC: 7.4.1

Arch Linux
	Kernel: latest
	GCC: latest

Fedora 31
	Kernel: 5.3.16
	GCC: 9.2.1

To view detailed results, visit:
https://lab.dpdk.org/results/dashboard/tarballs/7829/

UNH-IOL DPDK Community Lab

To manage your email subscriptions, visit: 
https://lab.dpdk.org/results/dashboard/preferences/subscriptions/


More information about the test-report mailing list