[dpdk-test-report] |SUCCESS| [GIT MASTER] f061f23bcaa619209b9180f8720a128bd719e95b

dpdklab at iol.unh.edu dpdklab at iol.unh.edu
Tue Jan 21 06:02:41 CET 2020


_Testing PASS_

Branch: dpdk

f061f23bcaa619209b9180f8720a128bd719e95b --> testing pass

Test environment and result as below:

+------------------+----------------+-------------------+------------------+--------------+--------------------+
|   Environment    | dpdk_unit_test | dpdk_compile_spdk | dpdk_compile_ovs | dpdk_compile | dpdk_meson_compile |
+==================+================+===================+==================+==============+====================+
| Ubuntu 18.04     | PASS           | PASS              | PASS             | PASS         | PASS               |
+------------------+----------------+-------------------+------------------+--------------+--------------------+
| FreeBSD 11.2     | SKIPPED        | PASS              | SKIPPED          | PASS         | PASS               |
+------------------+----------------+-------------------+------------------+--------------+--------------------+
| openSUSE Leap 15 | SKIPPED        | SKIPPED           | PASS             | PASS         | PASS               |
+------------------+----------------+-------------------+------------------+--------------+--------------------+
| Arch Linux       | SKIPPED        | SKIPPED           | PASS             | PASS         | PASS               |
+------------------+----------------+-------------------+------------------+--------------+--------------------+
| Fedora 31        | SKIPPED        | SKIPPED           | PASS             | PASS         | PASS               |
+------------------+----------------+-------------------+------------------+--------------+--------------------+

Ubuntu 18.04
	Kernel: 4.15.0-generic
	GCC: 7.4

FreeBSD 11.2
	Kernel: 11.2
	GCC: 8.3

openSUSE Leap 15
	Kernel: 4.12.14
	GCC: 7.4.1

Arch Linux
	Kernel: latest
	GCC: latest

Fedora 31
	Kernel: 5.3.16
	GCC: 9.2.1

To view detailed results, visit:
https://lab.dpdk.org/results/dashboard/tarballs/7833/

UNH-IOL DPDK Community Lab

To manage your email subscriptions, visit: 
https://lab.dpdk.org/results/dashboard/preferences/subscriptions/


More information about the test-report mailing list