[dpdk-test-report] |SUCCESS| pw64996 [PATCH] net/ice: fix FDIR PASSTHRU issue

dpdklab at iol.unh.edu dpdklab at iol.unh.edu
Tue Jan 21 07:33:57 CET 2020


Test-Label: iol-testing
Test-Status: SUCCESS
http://dpdk.org/patch/64996

_Testing PASS_

Submitter: Yahui Cao <yahui.cao at intel.com>
Date: Tuesday, January 21 2020 02:25:59 
DPDK git baseline: Repo:dpdk
  Branch: master
  CommitID:f061f23bcaa619209b9180f8720a128bd719e95b

64996 --> testing pass

Test environment and result as below:

+------------------+-------------------+--------------+----------------+------------------+--------------------+
|   Environment    | dpdk_compile_spdk | dpdk_compile | dpdk_unit_test | dpdk_compile_ovs | dpdk_meson_compile |
+==================+===================+==============+================+==================+====================+
| FreeBSD 11.2     | PASS              | PASS         | SKIPPED        | SKIPPED          | PASS               |
+------------------+-------------------+--------------+----------------+------------------+--------------------+
| Ubuntu 18.04     | PASS              | PASS         | PASS           | PASS             | PASS               |
+------------------+-------------------+--------------+----------------+------------------+--------------------+
| openSUSE Leap 15 | SKIPPED           | PASS         | SKIPPED        | PASS             | PASS               |
+------------------+-------------------+--------------+----------------+------------------+--------------------+
| Fedora 31        | SKIPPED           | PASS         | SKIPPED        | PASS             | PASS               |
+------------------+-------------------+--------------+----------------+------------------+--------------------+
| CentOS 8         | SKIPPED           | PASS         | SKIPPED        | PASS             | PASS               |
+------------------+-------------------+--------------+----------------+------------------+--------------------+
| Arch Linux       | SKIPPED           | PASS         | SKIPPED        | PASS             | PASS               |
+------------------+-------------------+--------------+----------------+------------------+--------------------+

FreeBSD 11.2
	Kernel: 11.2
	GCC: 8.3

Ubuntu 18.04
	Kernel: 4.15.0-generic
	GCC: 7.4

openSUSE Leap 15
	Kernel: 4.12.14
	GCC: 7.4.1

Fedora 31
	Kernel: 5.3.16
	GCC: 9.2.1

CentOS 8
	Kernel: 4.18.0.el8_0
	GCC: 8.3.1

Arch Linux
	Kernel: latest
	GCC: latest

To view detailed results, visit:
https://lab.dpdk.org/results/dashboard/patchsets/9302/

UNH-IOL DPDK Community Lab

To manage your email subscriptions, visit: 
https://lab.dpdk.org/results/dashboard/preferences/subscriptions/


More information about the test-report mailing list