[dpdk-test-report] |SUCCESS| pw64993 [PATCH] maintainers: set git tree for EAL and core libraries
dpdklab at iol.unh.edu
dpdklab at iol.unh.edu
Tue Jan 21 08:01:36 CET 2020
Test-Label: iol-testing
Test-Status: SUCCESS
http://dpdk.org/patch/64993
_Testing PASS_
Submitter: David Marchand <david.marchand at redhat.com>
Date: Monday, January 20 2020 20:35:13
DPDK git baseline: Repo:dpdk
Branch: master
CommitID:f061f23bcaa619209b9180f8720a128bd719e95b
64993 --> testing pass
Test environment and result as below:
+------------------+-------------------+--------------+----------------+------------------+--------------------+
| Environment | dpdk_compile_spdk | dpdk_compile | dpdk_unit_test | dpdk_compile_ovs | dpdk_meson_compile |
+==================+===================+==============+================+==================+====================+
| Ubuntu 18.04 | PASS | PASS | PASS | PASS | PASS |
+------------------+-------------------+--------------+----------------+------------------+--------------------+
| FreeBSD 11.2 | PASS | PASS | SKIPPED | SKIPPED | PASS |
+------------------+-------------------+--------------+----------------+------------------+--------------------+
| openSUSE Leap 15 | SKIPPED | PASS | SKIPPED | PASS | PASS |
+------------------+-------------------+--------------+----------------+------------------+--------------------+
| Fedora 31 | SKIPPED | PASS | SKIPPED | PASS | PASS |
+------------------+-------------------+--------------+----------------+------------------+--------------------+
| CentOS 8 | SKIPPED | PASS | SKIPPED | PASS | PASS |
+------------------+-------------------+--------------+----------------+------------------+--------------------+
| Arch Linux | SKIPPED | PASS | SKIPPED | PASS | PASS |
+------------------+-------------------+--------------+----------------+------------------+--------------------+
Ubuntu 18.04
Kernel: 4.15.0-generic
GCC: 7.4
FreeBSD 11.2
Kernel: 11.2
GCC: 8.3
openSUSE Leap 15
Kernel: 4.12.14
GCC: 7.4.1
Fedora 31
Kernel: 5.3.16
GCC: 9.2.1
CentOS 8
Kernel: 4.18.0.el8_0
GCC: 8.3.1
Arch Linux
Kernel: latest
GCC: latest
To view detailed results, visit:
https://lab.dpdk.org/results/dashboard/patchsets/9299/
UNH-IOL DPDK Community Lab
To manage your email subscriptions, visit:
https://lab.dpdk.org/results/dashboard/preferences/subscriptions/
More information about the test-report
mailing list