[dpdk-test-report] |SUCCESS| pw64997 [PATCH] [v2] net/ice: fix FDIR flag issue

dpdklab at iol.unh.edu dpdklab at iol.unh.edu
Tue Jan 21 08:27:50 CET 2020


Test-Label: iol-testing
Test-Status: SUCCESS
http://dpdk.org/patch/64997

_Testing PASS_

Submitter: Beilei Xing <beilei.xing at intel.com>
Date: Tuesday, January 21 2020 11:42:11 
DPDK git baseline: Repo:dpdk
  Branch: master
  CommitID:f061f23bcaa619209b9180f8720a128bd719e95b

64997 --> testing pass

Test environment and result as below:

+------------------+-------------------+----------------+------------------+--------------+--------------------+
|   Environment    | dpdk_compile_spdk | dpdk_unit_test | dpdk_compile_ovs | dpdk_compile | dpdk_meson_compile |
+==================+===================+================+==================+==============+====================+
| Ubuntu 18.04     | PASS              | PASS           | PASS             | PASS         | PASS               |
+------------------+-------------------+----------------+------------------+--------------+--------------------+
| FreeBSD 11.2     | PASS              | SKIPPED        | SKIPPED          | PASS         | PASS               |
+------------------+-------------------+----------------+------------------+--------------+--------------------+
| openSUSE Leap 15 | SKIPPED           | SKIPPED        | PASS             | PASS         | PASS               |
+------------------+-------------------+----------------+------------------+--------------+--------------------+
| Arch Linux       | SKIPPED           | SKIPPED        | PASS             | PASS         | PASS               |
+------------------+-------------------+----------------+------------------+--------------+--------------------+
| Fedora 31        | SKIPPED           | SKIPPED        | PASS             | PASS         | PASS               |
+------------------+-------------------+----------------+------------------+--------------+--------------------+
| CentOS 8         | SKIPPED           | SKIPPED        | PASS             | PASS         | PASS               |
+------------------+-------------------+----------------+------------------+--------------+--------------------+

Ubuntu 18.04
	Kernel: 4.15.0-generic
	GCC: 7.4

FreeBSD 11.2
	Kernel: 11.2
	GCC: 8.3

openSUSE Leap 15
	Kernel: 4.12.14
	GCC: 7.4.1

Arch Linux
	Kernel: latest
	GCC: latest

Fedora 31
	Kernel: 5.3.16
	GCC: 9.2.1

CentOS 8
	Kernel: 4.18.0.el8_0
	GCC: 8.3.1

To view detailed results, visit:
https://lab.dpdk.org/results/dashboard/patchsets/9303/

UNH-IOL DPDK Community Lab

To manage your email subscriptions, visit: 
https://lab.dpdk.org/results/dashboard/preferences/subscriptions/


More information about the test-report mailing list