[dpdk-test-report] |SUCCESS| pw64985 [PATCH] build: allow using wildcards to disable drivers

dpdklab at iol.unh.edu dpdklab at iol.unh.edu
Tue Jan 21 09:29:36 CET 2020


Test-Label: iol-testing
Test-Status: SUCCESS
http://dpdk.org/patch/64985

_Testing PASS_

Submitter: Bruce Richardson <bruce.richardson at intel.com>
Date: Monday, January 20 2020 17:37:25 
DPDK git baseline: Repo:dpdk
  Branch: master
  CommitID:f061f23bcaa619209b9180f8720a128bd719e95b

64985 --> testing pass

Test environment and result as below:

+------------------+-------------------+------------------+--------------------+--------------+----------------+
|   Environment    | dpdk_compile_spdk | dpdk_compile_ovs | dpdk_meson_compile | dpdk_compile | dpdk_unit_test |
+==================+===================+==================+====================+==============+================+
| FreeBSD 11.2     | PASS              | SKIPPED          | PASS               | PASS         | SKIPPED        |
+------------------+-------------------+------------------+--------------------+--------------+----------------+
| Ubuntu 18.04     | PASS              | PASS             | PASS               | PASS         | PASS           |
+------------------+-------------------+------------------+--------------------+--------------+----------------+
| openSUSE Leap 15 | SKIPPED           | PASS             | PASS               | PASS         | SKIPPED        |
+------------------+-------------------+------------------+--------------------+--------------+----------------+
| Arch Linux       | SKIPPED           | PASS             | PASS               | PASS         | SKIPPED        |
+------------------+-------------------+------------------+--------------------+--------------+----------------+
| Fedora 31        | SKIPPED           | PASS             | PASS               | PASS         | SKIPPED        |
+------------------+-------------------+------------------+--------------------+--------------+----------------+

FreeBSD 11.2
	Kernel: 11.2
	GCC: 8.3

Ubuntu 18.04
	Kernel: 4.15.0-generic
	GCC: 7.4

openSUSE Leap 15
	Kernel: 4.12.14
	GCC: 7.4.1

Arch Linux
	Kernel: latest
	GCC: latest

Fedora 31
	Kernel: 5.3.16
	GCC: 9.2.1

To view detailed results, visit:
https://lab.dpdk.org/results/dashboard/patchsets/9296/

UNH-IOL DPDK Community Lab

To manage your email subscriptions, visit: 
https://lab.dpdk.org/results/dashboard/preferences/subscriptions/


More information about the test-report mailing list