[dpdk-test-report] |SUCCESS| pw65013 [PATCH] net/ice: fix FDIR gtp_psc without qfi pattern issue

dpdklab at iol.unh.edu dpdklab at iol.unh.edu
Tue Jan 21 18:48:51 CET 2020


Test-Label: iol-testing
Test-Status: SUCCESS
http://dpdk.org/patch/65013

_Testing PASS_

Submitter: Yahui Cao <yahui.cao at intel.com>
Date: Tuesday, January 21 2020 13:41:13 
DPDK git baseline: Repo:dpdk
  Branch: master
  CommitID:f061f23bcaa619209b9180f8720a128bd719e95b

65013 --> testing pass

Test environment and result as below:

+------------------+-------------------+------------------+----------------+--------------+--------------------+
|   Environment    | dpdk_compile_spdk | dpdk_compile_ovs | dpdk_unit_test | dpdk_compile | dpdk_meson_compile |
+==================+===================+==================+================+==============+====================+
| FreeBSD 11.2     | PASS              | SKIPPED          | SKIPPED        | PASS         | PASS               |
+------------------+-------------------+------------------+----------------+--------------+--------------------+
| Ubuntu 18.04     | PASS              | PASS             | PASS           | PASS         | PASS               |
+------------------+-------------------+------------------+----------------+--------------+--------------------+
| openSUSE Leap 15 | SKIPPED           | PASS             | SKIPPED        | PASS         | PASS               |
+------------------+-------------------+------------------+----------------+--------------+--------------------+
| Arch Linux       | SKIPPED           | PASS             | SKIPPED        | PASS         | PASS               |
+------------------+-------------------+------------------+----------------+--------------+--------------------+
| Fedora 31        | SKIPPED           | PASS             | SKIPPED        | PASS         | PASS               |
+------------------+-------------------+------------------+----------------+--------------+--------------------+

FreeBSD 11.2
	Kernel: 11.2
	GCC: 8.3

Ubuntu 18.04
	Kernel: 4.15.0-generic
	GCC: 7.4

openSUSE Leap 15
	Kernel: 4.12.14
	GCC: 7.4.1

Arch Linux
	Kernel: latest
	GCC: latest

Fedora 31
	Kernel: 5.3.16
	GCC: 9.2.1

To view detailed results, visit:
https://lab.dpdk.org/results/dashboard/patchsets/9313/

UNH-IOL DPDK Community Lab

To manage your email subscriptions, visit: 
https://lab.dpdk.org/results/dashboard/preferences/subscriptions/


More information about the test-report mailing list