[dpdk-test-report] |SUCCESS| pw65021 [PATCH] net/octeontx2: extend RSS supported offload types

dpdklab at iol.unh.edu dpdklab at iol.unh.edu
Wed Jan 22 05:38:03 CET 2020


Test-Label: iol-testing
Test-Status: SUCCESS
http://dpdk.org/patch/65021

_Testing PASS_

Submitter: Kiran Kumar Kokkilagadda <kirankumark at marvell.com>
Date: Wednesday, January 22 2020 03:46:09 
DPDK git baseline: Repo:dpdk
  Branch: master
  CommitID:73c392e24f5e29acbe53044dccb6b07ebbae2467

65021 --> testing pass

Test environment and result as below:

+------------------+-------------------+--------------+----------------+--------------------+------------------+
|   Environment    | dpdk_compile_spdk | dpdk_compile | dpdk_unit_test | dpdk_meson_compile | dpdk_compile_ovs |
+==================+===================+==============+================+====================+==================+
| FreeBSD 11.2     | PASS              | PASS         | SKIPPED        | PASS               | SKIPPED          |
+------------------+-------------------+--------------+----------------+--------------------+------------------+
| Ubuntu 18.04     | PASS              | PASS         | PASS           | PASS               | PASS             |
+------------------+-------------------+--------------+----------------+--------------------+------------------+
| openSUSE Leap 15 | SKIPPED           | PASS         | SKIPPED        | PASS               | PASS             |
+------------------+-------------------+--------------+----------------+--------------------+------------------+
| Arch Linux       | SKIPPED           | PASS         | SKIPPED        | PASS               | PASS             |
+------------------+-------------------+--------------+----------------+--------------------+------------------+
| Fedora 31        | SKIPPED           | PASS         | SKIPPED        | PASS               | PASS             |
+------------------+-------------------+--------------+----------------+--------------------+------------------+
| CentOS 8         | SKIPPED           | PASS         | SKIPPED        | PASS               | PASS             |
+------------------+-------------------+--------------+----------------+--------------------+------------------+

FreeBSD 11.2
	Kernel: 11.2
	GCC: 8.3

Ubuntu 18.04
	Kernel: 4.15.0-generic
	GCC: 7.4

openSUSE Leap 15
	Kernel: 4.12.14
	GCC: 7.4.1

Arch Linux
	Kernel: latest
	GCC: latest

Fedora 31
	Kernel: 5.3.16
	GCC: 9.2.1

CentOS 8
	Kernel: 4.18.0.el8_0
	GCC: 8.3.1

To view detailed results, visit:
https://lab.dpdk.org/results/dashboard/patchsets/9321/

UNH-IOL DPDK Community Lab

To manage your email subscriptions, visit: 
https://lab.dpdk.org/results/dashboard/preferences/subscriptions/


More information about the test-report mailing list