[dpdk-test-report] |SUCCESS| pw65022 [PATCH] net/i40e/base: skip further adminq init for VF

dpdklab at iol.unh.edu dpdklab at iol.unh.edu
Wed Jan 22 06:39:42 CET 2020


Test-Label: iol-testing
Test-Status: SUCCESS
http://dpdk.org/patch/65022

_Testing PASS_

Submitter: Xiaolong Ye <xiaolong.ye at intel.com>
Date: Wednesday, January 22 2020 03:58:10 
DPDK git baseline: Repo:dpdk
  Branch: master
  CommitID:73c392e24f5e29acbe53044dccb6b07ebbae2467

65022 --> testing pass

Test environment and result as below:

+------------------+-------------------+--------------------+------------------+----------------+--------------+
|   Environment    | dpdk_compile_spdk | dpdk_meson_compile | dpdk_compile_ovs | dpdk_unit_test | dpdk_compile |
+==================+===================+====================+==================+================+==============+
| FreeBSD 11.2     | PASS              | PASS               | SKIPPED          | SKIPPED        | PASS         |
+------------------+-------------------+--------------------+------------------+----------------+--------------+
| Ubuntu 18.04     | PASS              | PASS               | PASS             | PASS           | PASS         |
+------------------+-------------------+--------------------+------------------+----------------+--------------+
| Arch Linux       | SKIPPED           | PASS               | PASS             | SKIPPED        | PASS         |
+------------------+-------------------+--------------------+------------------+----------------+--------------+
| openSUSE Leap 15 | SKIPPED           | PASS               | PASS             | SKIPPED        | PASS         |
+------------------+-------------------+--------------------+------------------+----------------+--------------+
| Fedora 31        | SKIPPED           | PASS               | PASS             | SKIPPED        | PASS         |
+------------------+-------------------+--------------------+------------------+----------------+--------------+

FreeBSD 11.2
	Kernel: 11.2
	GCC: 8.3

Ubuntu 18.04
	Kernel: 4.15.0-generic
	GCC: 7.4

Arch Linux
	Kernel: latest
	GCC: latest

openSUSE Leap 15
	Kernel: 4.12.14
	GCC: 7.4.1

Fedora 31
	Kernel: 5.3.16
	GCC: 9.2.1

To view detailed results, visit:
https://lab.dpdk.org/results/dashboard/patchsets/9322/

UNH-IOL DPDK Community Lab

To manage your email subscriptions, visit: 
https://lab.dpdk.org/results/dashboard/preferences/subscriptions/


More information about the test-report mailing list