[dpdk-test-report] |SUCCESS| pw65025 [PATCH] net/ice: fix GTPU rule confliction

dpdklab at iol.unh.edu dpdklab at iol.unh.edu
Wed Jan 22 07:27:34 CET 2020


Test-Label: iol-testing
Test-Status: SUCCESS
http://dpdk.org/patch/65025

_Testing PASS_

Submitter: Qi Zhang <qi.z.zhang at intel.com>
Date: Wednesday, January 22 2020 05:28:24 
DPDK git baseline: Repo:dpdk
  Branch: master
  CommitID:73c392e24f5e29acbe53044dccb6b07ebbae2467

65025 --> testing pass

Test environment and result as below:

+------------------+-------------------+--------------------+------------------+----------------+--------------+
|   Environment    | dpdk_compile_spdk | dpdk_meson_compile | dpdk_compile_ovs | dpdk_unit_test | dpdk_compile |
+==================+===================+====================+==================+================+==============+
| Ubuntu 18.04     | PASS              | PASS               | PASS             | PASS           | PASS         |
+------------------+-------------------+--------------------+------------------+----------------+--------------+
| FreeBSD 11.2     | PASS              | PASS               | SKIPPED          | SKIPPED        | PASS         |
+------------------+-------------------+--------------------+------------------+----------------+--------------+
| openSUSE Leap 15 | SKIPPED           | PASS               | PASS             | SKIPPED        | PASS         |
+------------------+-------------------+--------------------+------------------+----------------+--------------+
| Fedora 31        | SKIPPED           | PASS               | PASS             | SKIPPED        | PASS         |
+------------------+-------------------+--------------------+------------------+----------------+--------------+
| CentOS 8         | SKIPPED           | PASS               | PASS             | SKIPPED        | PASS         |
+------------------+-------------------+--------------------+------------------+----------------+--------------+
| Arch Linux       | SKIPPED           | PASS               | PASS             | SKIPPED        | PASS         |
+------------------+-------------------+--------------------+------------------+----------------+--------------+

Ubuntu 18.04
	Kernel: 4.15.0-generic
	GCC: 7.4

FreeBSD 11.2
	Kernel: 11.2
	GCC: 8.3

openSUSE Leap 15
	Kernel: 4.12.14
	GCC: 7.4.1

Fedora 31
	Kernel: 5.3.16
	GCC: 9.2.1

CentOS 8
	Kernel: 4.18.0.el8_0
	GCC: 8.3.1

Arch Linux
	Kernel: latest
	GCC: latest

To view detailed results, visit:
https://lab.dpdk.org/results/dashboard/patchsets/9324/

UNH-IOL DPDK Community Lab

To manage your email subscriptions, visit: 
https://lab.dpdk.org/results/dashboard/preferences/subscriptions/


More information about the test-report mailing list