[dpdk-test-report] |SUCCESS| [GIT MASTER] 2b56021fa5fd35e046894ec1ee45dac6bd255744

dpdklab at iol.unh.edu dpdklab at iol.unh.edu
Thu Jan 23 17:55:48 CET 2020


_Testing PASS_

Branch: dpdk-next-crypto

2b56021fa5fd35e046894ec1ee45dac6bd255744 --> testing pass

Test environment and result as below:

+------------------+-------------------+------------------+--------------------+--------------+----------------+
|   Environment    | dpdk_compile_spdk | dpdk_compile_ovs | dpdk_meson_compile | dpdk_compile | dpdk_unit_test |
+==================+===================+==================+====================+==============+================+
| FreeBSD 11.2     | PASS              | SKIPPED          | PASS               | PASS         | SKIPPED        |
+------------------+-------------------+------------------+--------------------+--------------+----------------+
| Ubuntu 18.04     | PASS              | PASS             | PASS               | PASS         | PASS           |
+------------------+-------------------+------------------+--------------------+--------------+----------------+
| openSUSE Leap 15 | SKIPPED           | PASS             | PASS               | PASS         | SKIPPED        |
+------------------+-------------------+------------------+--------------------+--------------+----------------+
| Arch Linux       | SKIPPED           | PASS             | PASS               | PASS         | SKIPPED        |
+------------------+-------------------+------------------+--------------------+--------------+----------------+
| Fedora 31        | SKIPPED           | PASS             | PASS               | PASS         | SKIPPED        |
+------------------+-------------------+------------------+--------------------+--------------+----------------+
| CentOS 8         | SKIPPED           | PASS             | PASS               | PASS         | SKIPPED        |
+------------------+-------------------+------------------+--------------------+--------------+----------------+

FreeBSD 11.2
	Kernel: 11.2
	GCC: 8.3

Ubuntu 18.04
	Kernel: 4.15.0-generic
	GCC: 7.4

openSUSE Leap 15
	Kernel: 4.12.14
	GCC: 7.4.1

Arch Linux
	Kernel: latest
	GCC: latest

Fedora 31
	Kernel: 5.3.16
	GCC: 9.2.1

CentOS 8
	Kernel: 4.18.0.el8_0
	GCC: 8.3.1

To view detailed results, visit:
https://lab.dpdk.org/results/dashboard/tarballs/7893/

UNH-IOL DPDK Community Lab

To manage your email subscriptions, visit: 
https://lab.dpdk.org/results/dashboard/preferences/subscriptions/


More information about the test-report mailing list