[dpdk-test-report] |SUCCESS| pw65113 [PATCH] net/octeontx2: disable HIGIG on port stop

dpdklab at iol.unh.edu dpdklab at iol.unh.edu
Fri Jan 24 16:16:55 CET 2020


Test-Label: iol-testing
Test-Status: SUCCESS
http://dpdk.org/patch/65113

_Testing PASS_

Submitter: Kiran Kumar Kokkilagadda <kirankumark at marvell.com>
Date: Friday, January 24 2020 13:54:26 
DPDK git baseline: Repo:dpdk
  Branch: master
  CommitID:c465e6b94be343303303f26b95f3c2ae4969063e

65113 --> testing pass

Test environment and result as below:

+------------------+-------------------+------------------+--------------+----------------+--------------------+
|   Environment    | dpdk_compile_spdk | dpdk_compile_ovs | dpdk_compile | dpdk_unit_test | dpdk_meson_compile |
+==================+===================+==================+==============+================+====================+
| Ubuntu 18.04     | PASS              | PASS             | PASS         | PASS           | PASS               |
+------------------+-------------------+------------------+--------------+----------------+--------------------+
| FreeBSD 11.2     | PASS              | SKIPPED          | PASS         | SKIPPED        | PASS               |
+------------------+-------------------+------------------+--------------+----------------+--------------------+
| openSUSE Leap 15 | SKIPPED           | PASS             | PASS         | SKIPPED        | PASS               |
+------------------+-------------------+------------------+--------------+----------------+--------------------+
| Arch Linux       | SKIPPED           | PASS             | PASS         | SKIPPED        | PASS               |
+------------------+-------------------+------------------+--------------+----------------+--------------------+
| Fedora 31        | SKIPPED           | PASS             | PASS         | SKIPPED        | PASS               |
+------------------+-------------------+------------------+--------------+----------------+--------------------+

Ubuntu 18.04
	Kernel: 4.15.0-generic
	GCC: 7.4

FreeBSD 11.2
	Kernel: 11.2
	GCC: 8.3

openSUSE Leap 15
	Kernel: 4.12.14
	GCC: 7.4.1

Arch Linux
	Kernel: latest
	GCC: latest

Fedora 31
	Kernel: 5.3.16
	GCC: 9.2.1

To view detailed results, visit:
https://lab.dpdk.org/results/dashboard/patchsets/9353/

UNH-IOL DPDK Community Lab

To manage your email subscriptions, visit: 
https://lab.dpdk.org/results/dashboard/preferences/subscriptions/


More information about the test-report mailing list