[dpdk-test-report] |SUCCESS| pw65133 [PATCH] [v2] net/ixgbevf: prevent duplicate default mac filter entries

dpdklab at iol.unh.edu dpdklab at iol.unh.edu
Mon Jan 27 21:52:28 CET 2020


Test-Label: iol-testing
Test-Status: SUCCESS
http://dpdk.org/patch/65133

_Testing PASS_

Submitter: David Harton <dharton at cisco.com>
Date: Sunday, January 26 2020 17:32:49 
DPDK git baseline: Repo:dpdk
  Branch: master
  CommitID:c465e6b94be343303303f26b95f3c2ae4969063e

65133 --> testing pass

Test environment and result as below:

+------------------+-------------------+------------------+----------------+--------------+--------------------+
|   Environment    | dpdk_compile_spdk | dpdk_compile_ovs | dpdk_unit_test | dpdk_compile | dpdk_meson_compile |
+==================+===================+==================+================+==============+====================+
| FreeBSD 11.2     | PASS              | SKIPPED          | SKIPPED        | PASS         | PASS               |
+------------------+-------------------+------------------+----------------+--------------+--------------------+
| Ubuntu 18.04     | PASS              | PASS             | PASS           | PASS         | PASS               |
+------------------+-------------------+------------------+----------------+--------------+--------------------+
| openSUSE Leap 15 | SKIPPED           | PASS             | SKIPPED        | PASS         | PASS               |
+------------------+-------------------+------------------+----------------+--------------+--------------------+
| Arch Linux       | SKIPPED           | PASS             | SKIPPED        | PASS         | PASS               |
+------------------+-------------------+------------------+----------------+--------------+--------------------+
| Fedora 31        | SKIPPED           | PASS             | SKIPPED        | PASS         | PASS               |
+------------------+-------------------+------------------+----------------+--------------+--------------------+
| CentOS 8         | SKIPPED           | PASS             | SKIPPED        | PASS         | PASS               |
+------------------+-------------------+------------------+----------------+--------------+--------------------+

FreeBSD 11.2
	Kernel: 11.2
	GCC: 8.3

Ubuntu 18.04
	Kernel: 4.15.0-generic
	GCC: 7.4

openSUSE Leap 15
	Kernel: 4.12.14
	GCC: 7.4.1

Arch Linux
	Kernel: latest
	GCC: latest

Fedora 31
	Kernel: 5.3.16
	GCC: 9.2.1

CentOS 8
	Kernel: 4.18.0.el8_0
	GCC: 8.3.1

To view detailed results, visit:
https://lab.dpdk.org/results/dashboard/patchsets/9366/

UNH-IOL DPDK Community Lab

To manage your email subscriptions, visit: 
https://lab.dpdk.org/results/dashboard/preferences/subscriptions/


More information about the test-report mailing list