[dpdk-test-report] |SUCCESS| pw65120 [PATCH] app/test: add test for mbuf with pinned external buffer
dpdklab at iol.unh.edu
dpdklab at iol.unh.edu
Tue Jan 28 01:42:25 CET 2020
Test-Label: iol-testing
Test-Status: SUCCESS
http://dpdk.org/patch/65120
_Testing PASS_
Submitter: Slava Ovsiienko <viacheslavo at mellanox.com>
Date: Friday, January 24 2020 20:25:18
DPDK git baseline: Repo:dpdk
Branch: master
CommitID:c465e6b94be343303303f26b95f3c2ae4969063e
65120 --> testing pass
Test environment and result as below:
+------------------+-------------------+--------------+------------------+----------------+--------------------+
| Environment | dpdk_compile_spdk | dpdk_compile | dpdk_compile_ovs | dpdk_unit_test | dpdk_meson_compile |
+==================+===================+==============+==================+================+====================+
| FreeBSD 11.2 | PASS | PASS | SKIPPED | SKIPPED | PASS |
+------------------+-------------------+--------------+------------------+----------------+--------------------+
| Ubuntu 18.04 | PASS | PASS | PASS | PASS | PASS |
+------------------+-------------------+--------------+------------------+----------------+--------------------+
| openSUSE Leap 15 | SKIPPED | PASS | PASS | SKIPPED | PASS |
+------------------+-------------------+--------------+------------------+----------------+--------------------+
| Fedora 31 | SKIPPED | PASS | PASS | SKIPPED | PASS |
+------------------+-------------------+--------------+------------------+----------------+--------------------+
| Arch Linux | SKIPPED | PASS | PASS | SKIPPED | PASS |
+------------------+-------------------+--------------+------------------+----------------+--------------------+
FreeBSD 11.2
Kernel: 11.2
GCC: 8.3
Ubuntu 18.04
Kernel: 4.15.0-generic
GCC: 7.4
openSUSE Leap 15
Kernel: 4.12.14
GCC: 7.4.1
Fedora 31
Kernel: 5.3.16
GCC: 9.2.1
Arch Linux
Kernel: latest
GCC: latest
To view detailed results, visit:
https://lab.dpdk.org/results/dashboard/patchsets/9358/
UNH-IOL DPDK Community Lab
To manage your email subscriptions, visit:
https://lab.dpdk.org/results/dashboard/preferences/subscriptions/
More information about the test-report
mailing list