[dpdk-test-report] |SUCCESS| [GIT MASTER] 0c8f991f48949e0c0c128513625620f5137d3d5b

dpdklab at iol.unh.edu dpdklab at iol.unh.edu
Tue Jan 28 14:07:27 CET 2020


_Testing PASS_

Branch: dpdk-next-eventdev

0c8f991f48949e0c0c128513625620f5137d3d5b --> testing pass

Test environment and result as below:

+------------------+-------------------+--------------+--------------------+----------------+------------------+
|   Environment    | dpdk_compile_spdk | dpdk_compile | dpdk_meson_compile | dpdk_unit_test | dpdk_compile_ovs |
+==================+===================+==============+====================+================+==================+
| FreeBSD 11.2     | PASS              | PASS         | PASS               | SKIPPED        | SKIPPED          |
+------------------+-------------------+--------------+--------------------+----------------+------------------+
| Ubuntu 18.04     | PASS              | PASS         | PASS               | PASS           | PASS             |
+------------------+-------------------+--------------+--------------------+----------------+------------------+
| openSUSE Leap 15 | SKIPPED           | PASS         | PASS               | SKIPPED        | PASS             |
+------------------+-------------------+--------------+--------------------+----------------+------------------+
| Arch Linux       | SKIPPED           | PASS         | PASS               | SKIPPED        | PASS             |
+------------------+-------------------+--------------+--------------------+----------------+------------------+
| CentOS 8         | SKIPPED           | PASS         | PASS               | SKIPPED        | PASS             |
+------------------+-------------------+--------------+--------------------+----------------+------------------+

FreeBSD 11.2
	Kernel: 11.2
	GCC: 8.3

Ubuntu 18.04
	Kernel: 4.15.0-generic
	GCC: 7.4

openSUSE Leap 15
	Kernel: 4.12.14
	GCC: 7.4.1

Arch Linux
	Kernel: latest
	GCC: latest

CentOS 8
	Kernel: 4.18.0.el8_0
	GCC: 8.3.1

To view detailed results, visit:
https://lab.dpdk.org/results/dashboard/tarballs/7937/

UNH-IOL DPDK Community Lab

To manage your email subscriptions, visit: 
https://lab.dpdk.org/results/dashboard/preferences/subscriptions/


More information about the test-report mailing list