[dpdk-test-report] |SUCCESS| [GIT MASTER] 6afacd8131f42023e9eb629fbc65347be30a47e9
dpdklab at iol.unh.edu
dpdklab at iol.unh.edu
Wed Jan 29 03:36:09 CET 2020
_Testing PASS_
Branch: dpdk-next-net-mrvl
6afacd8131f42023e9eb629fbc65347be30a47e9 --> testing pass
Test environment and result as below:
+------------------+-------------------+------------------+--------------+----------------+--------------------+
| Environment | dpdk_compile_spdk | dpdk_compile_ovs | dpdk_compile | dpdk_unit_test | dpdk_meson_compile |
+==================+===================+==================+==============+================+====================+
| Ubuntu 18.04 | PASS | PASS | PASS | PASS | PASS |
+------------------+-------------------+------------------+--------------+----------------+--------------------+
| FreeBSD 11.2 | PASS | SKIPPED | PASS | SKIPPED | PASS |
+------------------+-------------------+------------------+--------------+----------------+--------------------+
| openSUSE Leap 15 | SKIPPED | PASS | PASS | SKIPPED | PASS |
+------------------+-------------------+------------------+--------------+----------------+--------------------+
| Arch Linux | SKIPPED | PASS | PASS | SKIPPED | PASS |
+------------------+-------------------+------------------+--------------+----------------+--------------------+
| CentOS 8 | SKIPPED | PASS | PASS | SKIPPED | PASS |
+------------------+-------------------+------------------+--------------+----------------+--------------------+
Ubuntu 18.04
Kernel: 4.15.0-generic
GCC: 7.4
FreeBSD 11.2
Kernel: 11.2
GCC: 8.3
openSUSE Leap 15
Kernel: 4.12.14
GCC: 7.4.1
Arch Linux
Kernel: latest
GCC: latest
CentOS 8
Kernel: 4.18.0.el8_0
GCC: 8.3.1
To view detailed results, visit:
https://lab.dpdk.org/results/dashboard/tarballs/7949/
UNH-IOL DPDK Community Lab
To manage your email subscriptions, visit:
https://lab.dpdk.org/results/dashboard/preferences/subscriptions/
More information about the test-report
mailing list