[dpdk-test-report] |SUCCESS| pw65286 [PATCH] net/octeontx: fix memory leak of MAC address table

dpdklab at iol.unh.edu dpdklab at iol.unh.edu
Wed Jan 29 12:48:24 CET 2020


Test-Label: iol-testing
Test-Status: SUCCESS
http://dpdk.org/patch/65286

_Testing PASS_

Submitter: Sunil Kumar Kori <skori at marvell.com>
Date: Wednesday, January 29 2020 09:17:04 
DPDK git baseline: Repo:dpdk
  Branch: master
  CommitID:c465e6b94be343303303f26b95f3c2ae4969063e

65286 --> testing pass

Test environment and result as below:

+------------------+-------------------+--------------+----------------+------------------+--------------------+
|   Environment    | dpdk_compile_spdk | dpdk_compile | dpdk_unit_test | dpdk_compile_ovs | dpdk_meson_compile |
+==================+===================+==============+================+==================+====================+
| Ubuntu 18.04     | PASS              | PASS         | PASS           | PASS             | PASS               |
+------------------+-------------------+--------------+----------------+------------------+--------------------+
| FreeBSD 11.2     | PASS              | PASS         | SKIPPED        | SKIPPED          | PASS               |
+------------------+-------------------+--------------+----------------+------------------+--------------------+
| openSUSE Leap 15 | SKIPPED           | PASS         | SKIPPED        | PASS             | PASS               |
+------------------+-------------------+--------------+----------------+------------------+--------------------+
| Arch Linux       | SKIPPED           | PASS         | SKIPPED        | PASS             | PASS               |
+------------------+-------------------+--------------+----------------+------------------+--------------------+
| CentOS 8         | SKIPPED           | PASS         | SKIPPED        | PASS             | PASS               |
+------------------+-------------------+--------------+----------------+------------------+--------------------+

Ubuntu 18.04
	Kernel: 4.15.0-generic
	GCC: 7.4

FreeBSD 11.2
	Kernel: 11.2
	GCC: 8.3

openSUSE Leap 15
	Kernel: 4.12.14
	GCC: 7.4.1

Arch Linux
	Kernel: latest
	GCC: latest

CentOS 8
	Kernel: 4.18.0.el8_0
	GCC: 8.3.1

To view detailed results, visit:
https://lab.dpdk.org/results/dashboard/patchsets/9401/

UNH-IOL DPDK Community Lab

To manage your email subscriptions, visit: 
https://lab.dpdk.org/results/dashboard/preferences/subscriptions/


More information about the test-report mailing list