[dpdk-test-report] |SUCCESS| [GIT MASTER] 80514c84c4fd1f0297e60bc665c6d26ee8805a00
dpdklab at iol.unh.edu
dpdklab at iol.unh.edu
Thu Jan 30 17:03:34 CET 2020
_Testing PASS_
Branch: dpdk-next-net-mlx
80514c84c4fd1f0297e60bc665c6d26ee8805a00 --> testing pass
Test environment and result as below:
+------------------+-------------------+--------------------+--------------+----------------+------------------+
| Environment | dpdk_compile_spdk | dpdk_meson_compile | dpdk_compile | dpdk_unit_test | dpdk_compile_ovs |
+==================+===================+====================+==============+================+==================+
| Ubuntu 18.04 | PASS | PASS | PASS | PASS | PASS |
+------------------+-------------------+--------------------+--------------+----------------+------------------+
| FreeBSD 11.2 | PASS | PASS | PASS | SKIPPED | SKIPPED |
+------------------+-------------------+--------------------+--------------+----------------+------------------+
| openSUSE Leap 15 | SKIPPED | PASS | PASS | SKIPPED | PASS |
+------------------+-------------------+--------------------+--------------+----------------+------------------+
| CentOS 8 | SKIPPED | PASS | PASS | SKIPPED | PASS |
+------------------+-------------------+--------------------+--------------+----------------+------------------+
| Arch Linux | SKIPPED | PASS | PASS | SKIPPED | PASS |
+------------------+-------------------+--------------------+--------------+----------------+------------------+
| Fedora 31 | SKIPPED | SKIPPED | PASS | SKIPPED | SKIPPED |
+------------------+-------------------+--------------------+--------------+----------------+------------------+
Ubuntu 18.04
Kernel: 4.15.0-generic
GCC: 7.4
FreeBSD 11.2
Kernel: 11.2
GCC: 8.3
openSUSE Leap 15
Kernel: 4.12.14
GCC: 7.4.1
CentOS 8
Kernel: 4.18.0.el8_0
GCC: 8.3.1
Arch Linux
Kernel: latest
GCC: latest
Fedora 31
Kernel: 5.3.16
GCC: 9.2.1
To view detailed results, visit:
https://lab.dpdk.org/results/dashboard/tarballs/7973/
UNH-IOL DPDK Community Lab
To manage your email subscriptions, visit:
https://lab.dpdk.org/results/dashboard/preferences/subscriptions/
More information about the test-report
mailing list