[dpdk-test-report] |SUCCESS| pw65408 [PATCH] net/bnxt: fix to remove spurious warning in Rx handler

dpdklab at iol.unh.edu dpdklab at iol.unh.edu
Fri Jan 31 08:17:21 CET 2020


Test-Label: iol-testing
Test-Status: SUCCESS
http://dpdk.org/patch/65408

_Testing PASS_

Submitter: Somnath Kotur <somnath.kotur at broadcom.com>
Date: Friday, January 31 2020 05:05:47 
DPDK git baseline: Repo:dpdk-next-net-brcm
  Branch: master
  CommitID:261b2ab8c0b3d5479038f6a0beaf99ad31d9c8d0

65408 --> testing pass

Test environment and result as below:

+------------------+-------------------+--------------------+--------------+----------------+------------------+
|   Environment    | dpdk_compile_spdk | dpdk_meson_compile | dpdk_compile | dpdk_unit_test | dpdk_compile_ovs |
+==================+===================+====================+==============+================+==================+
| FreeBSD 11.2     | PASS              | PASS               | PASS         | SKIPPED        | SKIPPED          |
+------------------+-------------------+--------------------+--------------+----------------+------------------+
| Ubuntu 18.04     | PASS              | PASS               | PASS         | PASS           | PASS             |
+------------------+-------------------+--------------------+--------------+----------------+------------------+
| openSUSE Leap 15 | SKIPPED           | PASS               | PASS         | SKIPPED        | PASS             |
+------------------+-------------------+--------------------+--------------+----------------+------------------+
| Arch Linux       | SKIPPED           | PASS               | PASS         | SKIPPED        | PASS             |
+------------------+-------------------+--------------------+--------------+----------------+------------------+
| Fedora 31        | SKIPPED           | PASS               | PASS         | SKIPPED        | PASS             |
+------------------+-------------------+--------------------+--------------+----------------+------------------+
| CentOS 8         | SKIPPED           | PASS               | PASS         | SKIPPED        | PASS             |
+------------------+-------------------+--------------------+--------------+----------------+------------------+

FreeBSD 11.2
	Kernel: 11.2
	GCC: 8.3

Ubuntu 18.04
	Kernel: 4.15.0-generic
	GCC: 7.4

openSUSE Leap 15
	Kernel: 4.12.14
	GCC: 7.4.1

Arch Linux
	Kernel: latest
	GCC: latest

Fedora 31
	Kernel: 5.3.16
	GCC: 9.2.1

CentOS 8
	Kernel: 4.18.0.el8_0
	GCC: 8.3.1

To view detailed results, visit:
https://lab.dpdk.org/results/dashboard/patchsets/9441/

UNH-IOL DPDK Community Lab

To manage your email subscriptions, visit: 
https://lab.dpdk.org/results/dashboard/preferences/subscriptions/


More information about the test-report mailing list