[dpdk-test-report] |SUCCESS| pw72960-72962 [PATCH] [v4, 1/3] eal: fix memory leak when removing event_cb

dpdklab at iol.unh.edu dpdklab at iol.unh.edu
Sun Jul 5 19:20:06 CEST 2020


Test-Label: iol-testing
Test-Status: SUCCESS
http://dpdk.org/patch/72960

_Testing PASS_

Submitter: wangyunjian <wangyunjian at huawei.com>
Date: Friday, July 03 2020 09:46:11 
DPDK git baseline: Repo:dpdk
  Branch: master
  CommitID:b98447077b0609750c10b84b7b2e7be0c8504fad

72960-72962 --> testing pass

Test environment and result as below:

+---------------------+--------------------+-------------------+----------------+------------------+--------------+
|     Environment     | dpdk_meson_compile | dpdk_compile_spdk | dpdk_unit_test | dpdk_compile_ovs | dpdk_compile |
+=====================+====================+===================+================+==================+==============+
| Windows Server 2019 | PASS               | SKIPPED           | SKIPPED        | SKIPPED          | SKIPPED      |
+---------------------+--------------------+-------------------+----------------+------------------+--------------+
| Fedora 31           | PASS               | PASS              | SKIPPED        | PASS             | PASS         |
+---------------------+--------------------+-------------------+----------------+------------------+--------------+
| Ubuntu 18.04        | PASS               | PASS              | PASS           | PASS             | PASS         |
+---------------------+--------------------+-------------------+----------------+------------------+--------------+
| CentOS 8            | PASS               | PASS              | SKIPPED        | PASS             | PASS         |
+---------------------+--------------------+-------------------+----------------+------------------+--------------+
| openSUSE Leap 15    | PASS               | PASS              | SKIPPED        | PASS             | PASS         |
+---------------------+--------------------+-------------------+----------------+------------------+--------------+
| Arch Linux          | PASS               | SKIPPED           | SKIPPED        | PASS             | PASS         |
+---------------------+--------------------+-------------------+----------------+------------------+--------------+
| FreeBSD 11.2        | PASS               | PASS              | SKIPPED        | SKIPPED          | PASS         |
+---------------------+--------------------+-------------------+----------------+------------------+--------------+

Windows Server 2019
	Kernel: 10.0
	Compiler: clang 9.0

Fedora 31
	Kernel: 5.3.16
	Compiler: gcc 9.2.1

Ubuntu 18.04
	Kernel: 4.15.0-generic
	Compiler: gcc 7.4

CentOS 8
	Kernel: 4.18.0.el8_0
	Compiler: gcc 8.3.1

openSUSE Leap 15
	Kernel: 4.12.14
	Compiler: gcc 7.4.1

Arch Linux
	Kernel: latest
	Compiler: gcc latest

FreeBSD 11.2
	Kernel: 11.2
	Compiler: gcc 8.3

To view detailed results, visit:
https://lab.dpdk.org/results/dashboard/patchsets/11814/

UNH-IOL DPDK Community Lab

To manage your email subscriptions, visit: 
https://lab.dpdk.org/results/dashboard/preferences/subscriptions/


More information about the test-report mailing list