[dpdk-test-report] |SUCCESS| [GIT MASTER] a8550b773184c202cee408aee8621d682ccb21dc
dpdklab at iol.unh.edu
dpdklab at iol.unh.edu
Thu Jul 9 00:52:31 CEST 2020
_Testing PASS_
Branch: dpdk
a8550b773184c202cee408aee8621d682ccb21dc --> testing pass
Test environment and result as below:
+---------------------+----------------+--------------------+-------------------+--------------+------------------+
| Environment | dpdk_unit_test | dpdk_meson_compile | dpdk_compile_spdk | dpdk_compile | dpdk_compile_ovs |
+=====================+================+====================+===================+==============+==================+
| Ubuntu 18.04 | PASS | PASS | PASS | PASS | PASS |
+---------------------+----------------+--------------------+-------------------+--------------+------------------+
| Windows Server 2019 | SKIPPED | PASS | SKIPPED | SKIPPED | SKIPPED |
+---------------------+----------------+--------------------+-------------------+--------------+------------------+
| FreeBSD 11.2 | SKIPPED | PASS | PASS | PASS | SKIPPED |
+---------------------+----------------+--------------------+-------------------+--------------+------------------+
| Arch Linux | SKIPPED | PASS | SKIPPED | PASS | PASS |
+---------------------+----------------+--------------------+-------------------+--------------+------------------+
| Fedora 31 | SKIPPED | PASS | PASS | PASS | PASS |
+---------------------+----------------+--------------------+-------------------+--------------+------------------+
| openSUSE Leap 15 | SKIPPED | PASS | PASS | PASS | PASS |
+---------------------+----------------+--------------------+-------------------+--------------+------------------+
| CentOS 8 | SKIPPED | PASS | PASS | PASS | PASS |
+---------------------+----------------+--------------------+-------------------+--------------+------------------+
Ubuntu 18.04
Kernel: 4.15.0-generic
Compiler: gcc 7.4
Windows Server 2019
Kernel: 10.0
Compiler: clang 9.0
FreeBSD 11.2
Kernel: 11.2
Compiler: gcc 8.3
Arch Linux
Kernel: latest
Compiler: gcc latest
Fedora 31
Kernel: 5.3.16
Compiler: gcc 9.2.1
openSUSE Leap 15
Kernel: 4.12.14
Compiler: gcc 7.4.1
CentOS 8
Kernel: 4.18.0.el8_0
Compiler: gcc 8.3.1
To view detailed results, visit:
https://lab.dpdk.org/results/dashboard/tarballs/10347/
UNH-IOL DPDK Community Lab
To manage your email subscriptions, visit:
https://lab.dpdk.org/results/dashboard/preferences/subscriptions/
More information about the test-report
mailing list