[dpdk-test-report] |SUCCESS| pw73922-73929 [PATCH] [v7, 1/8] eal/x86: introduce AVX 512-bit type
dpdklab at iol.unh.edu
dpdklab at iol.unh.edu
Mon Jul 13 16:55:13 CEST 2020
Test-Label: iol-testing
Test-Status: SUCCESS
http://dpdk.org/patch/73922
_Testing PASS_
Submitter: Vladimir Medvedkin <vladimir.medvedkin at intel.com>
Date: Monday, July 13 2020 11:56:25
DPDK git baseline: Repo:dpdk
Branch: master
CommitID:87520e59fb84c3ba5dbeee10d57a534fa3a70ad2
73922-73929 --> testing pass
Test environment and result as below:
+---------------------+--------------------+--------------+----------------+------------------+-------------------+
| Environment | dpdk_meson_compile | dpdk_compile | dpdk_unit_test | dpdk_compile_ovs | dpdk_compile_spdk |
+=====================+====================+==============+================+==================+===================+
| Windows Server 2019 | PASS | SKIPPED | SKIPPED | SKIPPED | SKIPPED |
+---------------------+--------------------+--------------+----------------+------------------+-------------------+
| Ubuntu 18.04 | PASS | PASS | PASS | PASS | PASS |
+---------------------+--------------------+--------------+----------------+------------------+-------------------+
| FreeBSD 11.2 | PASS | PASS | SKIPPED | SKIPPED | PASS |
+---------------------+--------------------+--------------+----------------+------------------+-------------------+
| Fedora 31 | PASS | PASS | SKIPPED | PASS | PASS |
+---------------------+--------------------+--------------+----------------+------------------+-------------------+
| CentOS 8 | PASS | PASS | SKIPPED | PASS | PASS |
+---------------------+--------------------+--------------+----------------+------------------+-------------------+
| openSUSE Leap 15 | PASS | PASS | SKIPPED | PASS | PASS |
+---------------------+--------------------+--------------+----------------+------------------+-------------------+
| Arch Linux | PASS | PASS | SKIPPED | PASS | SKIPPED |
+---------------------+--------------------+--------------+----------------+------------------+-------------------+
Windows Server 2019
Kernel: 10.0
Compiler: clang 9.0
Ubuntu 18.04
Kernel: 4.15.0-generic
Compiler: gcc 7.4
FreeBSD 11.2
Kernel: 11.2
Compiler: gcc 8.3
Fedora 31
Kernel: 5.3.16
Compiler: gcc 9.2.1
CentOS 8
Kernel: 4.18.0.el8_0
Compiler: gcc 8.3.1
openSUSE Leap 15
Kernel: 4.12.14
Compiler: gcc 7.4.1
Arch Linux
Kernel: latest
Compiler: gcc latest
To view detailed results, visit:
https://lab.dpdk.org/results/dashboard/patchsets/12037/
UNH-IOL DPDK Community Lab
To manage your email subscriptions, visit:
https://lab.dpdk.org/results/dashboard/preferences/subscriptions/
More information about the test-report
mailing list