[dpdk-test-report] |SUCCESS| pw74524-74531 [PATCH] [1/8] net/i40e/base: enable FEC on/off flag setting for X722

dpdklab at iol.unh.edu dpdklab at iol.unh.edu
Wed Jul 22 11:33:28 CEST 2020


Test-Label: iol-testing
Test-Status: SUCCESS
http://dpdk.org/patch/74524

_Testing PASS_

Submitter: Guinan Sun <guinanx.sun at intel.com>
Date: Tuesday, July 21 2020 07:39:53 
DPDK git baseline: Repo:dpdk
  Branch: master
  CommitID:cf43d9d04b935e3796331e453adedc3aabbedd12

74524-74531 --> testing pass

Test environment and result as below:

+---------------------+--------------------+------------------+-------------------+----------------+--------------+
|     Environment     | dpdk_meson_compile | dpdk_compile_ovs | dpdk_compile_spdk | dpdk_unit_test | dpdk_compile |
+=====================+====================+==================+===================+================+==============+
| Windows Server 2019 | PASS               | SKIPPED          | SKIPPED           | SKIPPED        | SKIPPED      |
+---------------------+--------------------+------------------+-------------------+----------------+--------------+
| Ubuntu 18.04        | PASS               | PASS             | PASS              | PASS           | PASS         |
+---------------------+--------------------+------------------+-------------------+----------------+--------------+
| FreeBSD 11.2        | PASS               | SKIPPED          | PASS              | SKIPPED        | PASS         |
+---------------------+--------------------+------------------+-------------------+----------------+--------------+
| CentOS 8            | PASS               | PASS             | PASS              | SKIPPED        | PASS         |
+---------------------+--------------------+------------------+-------------------+----------------+--------------+
| Arch Linux          | PASS               | PASS             | SKIPPED           | SKIPPED        | PASS         |
+---------------------+--------------------+------------------+-------------------+----------------+--------------+
| openSUSE Leap 15    | PASS               | PASS             | PASS              | SKIPPED        | PASS         |
+---------------------+--------------------+------------------+-------------------+----------------+--------------+
| Fedora 31           | PASS               | PASS             | PASS              | SKIPPED        | PASS         |
+---------------------+--------------------+------------------+-------------------+----------------+--------------+

Windows Server 2019
	Kernel: 10.0
	Compiler: clang 9.0

Ubuntu 18.04
	Kernel: 4.15.0-generic
	Compiler: gcc 7.4

FreeBSD 11.2
	Kernel: 11.2
	Compiler: gcc 8.3

CentOS 8
	Kernel: 4.18.0.el8_0
	Compiler: gcc 8.3.1

Arch Linux
	Kernel: latest
	Compiler: gcc latest

openSUSE Leap 15
	Kernel: 4.12.14
	Compiler: gcc 7.4.1

Fedora 31
	Kernel: 5.3.16
	Compiler: gcc 9.2.1

To view detailed results, visit:
https://lab.dpdk.org/results/dashboard/patchsets/12240/

UNH-IOL DPDK Community Lab

To manage your email subscriptions, visit: 
https://lab.dpdk.org/results/dashboard/preferences/subscriptions/


More information about the test-report mailing list