[dpdk-test-report] |SUCCESS| pw74664-74682 [PATCH] [v2, 01/20] net/bnxt: add shadow tcam capability with search

dpdklab at iol.unh.edu dpdklab at iol.unh.edu
Fri Jul 24 06:03:10 CEST 2020


Test-Label: iol-testing
Test-Status: SUCCESS
http://dpdk.org/patch/74664

_Testing PASS_

Submitter: Somnath Kotur <somnath.kotur at broadcom.com>
Date: Thursday, July 23 2020 11:56:20 
DPDK git baseline: Repo:dpdk
  Branch: master
  CommitID:3126c6e04118e92364571b7020f7bb1567bac694

74664-74682 --> testing pass

Test environment and result as below:

+---------------------+--------------------+--------------+-------------------+----------------+------------------+
|     Environment     | dpdk_meson_compile | dpdk_compile | dpdk_compile_spdk | dpdk_unit_test | dpdk_compile_ovs |
+=====================+====================+==============+===================+================+==================+
| Windows Server 2019 | PASS               | SKIPPED      | SKIPPED           | SKIPPED        | SKIPPED          |
+---------------------+--------------------+--------------+-------------------+----------------+------------------+
| Ubuntu 18.04        | PASS               | PASS         | PASS              | PASS           | PASS             |
+---------------------+--------------------+--------------+-------------------+----------------+------------------+
| FreeBSD 11.2        | PASS               | PASS         | PASS              | SKIPPED        | SKIPPED          |
+---------------------+--------------------+--------------+-------------------+----------------+------------------+
| CentOS 8            | PASS               | PASS         | PASS              | SKIPPED        | PASS             |
+---------------------+--------------------+--------------+-------------------+----------------+------------------+
| openSUSE Leap 15    | PASS               | PASS         | PASS              | SKIPPED        | PASS             |
+---------------------+--------------------+--------------+-------------------+----------------+------------------+
| Fedora 31           | PASS               | PASS         | PASS              | SKIPPED        | PASS             |
+---------------------+--------------------+--------------+-------------------+----------------+------------------+
| Arch Linux          | PASS               | PASS         | SKIPPED           | SKIPPED        | PASS             |
+---------------------+--------------------+--------------+-------------------+----------------+------------------+

Windows Server 2019
	Kernel: 10.0
	Compiler: clang 9.0

Ubuntu 18.04
	Kernel: 4.15.0-generic
	Compiler: gcc 7.4

FreeBSD 11.2
	Kernel: 11.2
	Compiler: gcc 8.3

CentOS 8
	Kernel: 4.18.0.el8_0
	Compiler: gcc 8.3.1

openSUSE Leap 15
	Kernel: 4.12.14
	Compiler: gcc 7.4.1

Fedora 31
	Kernel: 5.3.16
	Compiler: gcc 9.2.1

Arch Linux
	Kernel: latest
	Compiler: gcc latest

To view detailed results, visit:
https://lab.dpdk.org/results/dashboard/patchsets/12297/

UNH-IOL DPDK Community Lab

To manage your email subscriptions, visit: 
https://lab.dpdk.org/results/dashboard/preferences/subscriptions/


More information about the test-report mailing list