[dpdk-test-report] |SUCCESS| pw75091 [PATCH] librte_metrics: fix memory leak

dpdklab at iol.unh.edu dpdklab at iol.unh.edu
Fri Jul 31 08:57:48 CEST 2020


Test-Label: iol-testing
Test-Status: SUCCESS
http://dpdk.org/patch/75091

_Testing PASS_

Submitter: Gaurav Singh <gaurav1086 at gmail.com>
Date: Friday, July 31 2020 03:45:20 
DPDK git baseline: Repo:dpdk
  Branch: master
  CommitID:aee76bb79b91e2f8bce0e9356bee23f6e52d0513

75091 --> testing pass

Test environment and result as below:

+---------------------+--------------------+------------------+-------------------+----------------+--------------+
|     Environment     | dpdk_meson_compile | dpdk_compile_ovs | dpdk_compile_spdk | dpdk_unit_test | dpdk_compile |
+=====================+====================+==================+===================+================+==============+
| Windows Server 2019 | PASS               | SKIPPED          | SKIPPED           | SKIPPED        | SKIPPED      |
+---------------------+--------------------+------------------+-------------------+----------------+--------------+
| FreeBSD 11.2        | PASS               | SKIPPED          | PASS              | SKIPPED        | PASS         |
+---------------------+--------------------+------------------+-------------------+----------------+--------------+
| Ubuntu 18.04        | PASS               | PASS             | PASS              | PASS           | PASS         |
+---------------------+--------------------+------------------+-------------------+----------------+--------------+
| CentOS 8            | PASS               | PASS             | PASS              | SKIPPED        | PASS         |
+---------------------+--------------------+------------------+-------------------+----------------+--------------+
| openSUSE Leap 15    | PASS               | PASS             | PASS              | SKIPPED        | PASS         |
+---------------------+--------------------+------------------+-------------------+----------------+--------------+
| Fedora 31           | PASS               | PASS             | PASS              | SKIPPED        | PASS         |
+---------------------+--------------------+------------------+-------------------+----------------+--------------+
| Arch Linux          | PASS               | PASS             | SKIPPED           | SKIPPED        | PASS         |
+---------------------+--------------------+------------------+-------------------+----------------+--------------+

Windows Server 2019
	Kernel: 10.0
	Compiler: clang 9.0

FreeBSD 11.2
	Kernel: 11.2
	Compiler: gcc 8.3

Ubuntu 18.04
	Kernel: 4.15.0-generic
	Compiler: gcc 7.4

CentOS 8
	Kernel: 4.18.0.el8_0
	Compiler: gcc 8.3.1

openSUSE Leap 15
	Kernel: 4.12.14
	Compiler: gcc 7.4.1

Fedora 31
	Kernel: 5.3.16
	Compiler: gcc 9.2.1

Arch Linux
	Kernel: latest
	Compiler: gcc latest

To view detailed results, visit:
https://lab.dpdk.org/results/dashboard/patchsets/12437/

UNH-IOL DPDK Community Lab

To manage your email subscriptions, visit: 
https://lab.dpdk.org/results/dashboard/preferences/subscriptions/


More information about the test-report mailing list