[dpdk-test-report] |SUCCESS| pw71221 [PATCH] net/i40e: enable port filter by switch filter

dpdklab at iol.unh.edu dpdklab at iol.unh.edu
Fri Jun 12 06:08:50 CEST 2020


Test-Label: iol-testing
Test-Status: SUCCESS
http://dpdk.org/patch/71221

_Testing PASS_

Submitter: Guinan Sun <guinanx.sun at intel.com>
Date: Thursday, June 11 2020 05:24:16 
DPDK git baseline: Repo:dpdk
  Branch: master
  CommitID:5fd722308ef21819931d25e7a140ff5a292b19d9

71221 --> testing pass

Test environment and result as below:

+---------------------+--------------------+-------------------+--------------+----------------+------------------+
|     Environment     | dpdk_meson_compile | dpdk_compile_spdk | dpdk_compile | dpdk_unit_test | dpdk_compile_ovs |
+=====================+====================+===================+==============+================+==================+
| Windows Server 2019 | PASS               | SKIPPED           | SKIPPED      | SKIPPED        | SKIPPED          |
+---------------------+--------------------+-------------------+--------------+----------------+------------------+
| Fedora 31           | PASS               | PASS              | PASS         | SKIPPED        | PASS             |
+---------------------+--------------------+-------------------+--------------+----------------+------------------+
| CentOS 8            | PASS               | PASS              | PASS         | SKIPPED        | PASS             |
+---------------------+--------------------+-------------------+--------------+----------------+------------------+
| openSUSE Leap 15    | PASS               | PASS              | PASS         | SKIPPED        | PASS             |
+---------------------+--------------------+-------------------+--------------+----------------+------------------+
| Ubuntu 18.04        | PASS               | PASS              | PASS         | PASS           | PASS             |
+---------------------+--------------------+-------------------+--------------+----------------+------------------+
| Arch Linux          | PASS               | SKIPPED           | PASS         | SKIPPED        | PASS             |
+---------------------+--------------------+-------------------+--------------+----------------+------------------+
| FreeBSD 11.2        | PASS               | PASS              | PASS         | SKIPPED        | SKIPPED          |
+---------------------+--------------------+-------------------+--------------+----------------+------------------+

Windows Server 2019
	Kernel: 10.0
	Compiler: clang 9.0

Fedora 31
	Kernel: 5.3.16
	Compiler: gcc 9.2.1

CentOS 8
	Kernel: 4.18.0.el8_0
	Compiler: gcc 8.3.1

openSUSE Leap 15
	Kernel: 4.12.14
	Compiler: gcc 7.4.1

Ubuntu 18.04
	Kernel: 4.15.0-generic
	Compiler: gcc 7.4

Arch Linux
	Kernel: latest
	Compiler: gcc latest

FreeBSD 11.2
	Kernel: 11.2
	Compiler: gcc 8.3

To view detailed results, visit:
https://lab.dpdk.org/results/dashboard/patchsets/11452/

UNH-IOL DPDK Community Lab

To manage your email subscriptions, visit: 
https://lab.dpdk.org/results/dashboard/preferences/subscriptions/


More information about the test-report mailing list