[dpdk-test-report] |SUCCESS| pw71512 [PATCH] [v2] net/ice: enable new input set for rss hash
dpdklab at iol.unh.edu
dpdklab at iol.unh.edu
Sun Jun 14 22:43:40 CEST 2020
Test-Label: iol-testing
Test-Status: SUCCESS
http://dpdk.org/patch/71512
_Testing PASS_
Submitter: Jeff Guo <jia.guo at intel.com>
Date: Sunday, June 14 2020 15:08:19
DPDK git baseline: Repo:dpdk-next-net-intel
Branch: master
CommitID:28303138b38771bfa4c9dcd75a328d247c0f74e5
71512 --> testing pass
Test environment and result as below:
+---------------------+--------------------+-------------------+------------------+----------------+--------------+
| Environment | dpdk_meson_compile | dpdk_compile_spdk | dpdk_compile_ovs | dpdk_unit_test | dpdk_compile |
+=====================+====================+===================+==================+================+==============+
| Windows Server 2019 | PASS | SKIPPED | SKIPPED | SKIPPED | SKIPPED |
+---------------------+--------------------+-------------------+------------------+----------------+--------------+
| Fedora 31 | PASS | PASS | PASS | SKIPPED | PASS |
+---------------------+--------------------+-------------------+------------------+----------------+--------------+
| CentOS 8 | PASS | PASS | PASS | SKIPPED | PASS |
+---------------------+--------------------+-------------------+------------------+----------------+--------------+
| Ubuntu 18.04 | PASS | PASS | PASS | PASS | PASS |
+---------------------+--------------------+-------------------+------------------+----------------+--------------+
| openSUSE Leap 15 | PASS | PASS | PASS | SKIPPED | PASS |
+---------------------+--------------------+-------------------+------------------+----------------+--------------+
| Arch Linux | PASS | SKIPPED | PASS | SKIPPED | PASS |
+---------------------+--------------------+-------------------+------------------+----------------+--------------+
| FreeBSD 11.2 | PASS | PASS | SKIPPED | SKIPPED | PASS |
+---------------------+--------------------+-------------------+------------------+----------------+--------------+
Windows Server 2019
Kernel: 10.0
Compiler: clang 9.0
Fedora 31
Kernel: 5.3.16
Compiler: gcc 9.2.1
CentOS 8
Kernel: 4.18.0.el8_0
Compiler: gcc 8.3.1
Ubuntu 18.04
Kernel: 4.15.0-generic
Compiler: gcc 7.4
openSUSE Leap 15
Kernel: 4.12.14
Compiler: gcc 7.4.1
Arch Linux
Kernel: latest
Compiler: gcc latest
FreeBSD 11.2
Kernel: 11.2
Compiler: gcc 8.3
To view detailed results, visit:
https://lab.dpdk.org/results/dashboard/patchsets/11506/
UNH-IOL DPDK Community Lab
To manage your email subscriptions, visit:
https://lab.dpdk.org/results/dashboard/preferences/subscriptions/
More information about the test-report
mailing list