[dpdk-test-report] |SUCCESS| pw71632-71635 [PATCH] [v1, 1/4] common/mlx5: remove MR struct dependency on ibv
dpdklab at iol.unh.edu
dpdklab at iol.unh.edu
Tue Jun 16 22:27:38 CEST 2020
Test-Label: iol-testing
Test-Status: SUCCESS
http://dpdk.org/patch/71632
_Testing PASS_
Submitter: Ophir Munk <ophirmu at mellanox.com>
Date: Tuesday, June 16 2020 09:44:43
DPDK git baseline: Repo:dpdk-next-net-mlx
Branch: master
CommitID:8fa1643624a3a1b0cca660ed1d03f7c0dac136e8
71632-71635 --> testing pass
Test environment and result as below:
+---------------------+-------------------+--------------------+----------------+--------------+------------------+
| Environment | dpdk_compile_spdk | dpdk_meson_compile | dpdk_unit_test | dpdk_compile | dpdk_compile_ovs |
+=====================+===================+====================+================+==============+==================+
| FreeBSD 11.2 | PASS | PASS | SKIPPED | PASS | SKIPPED |
+---------------------+-------------------+--------------------+----------------+--------------+------------------+
| openSUSE Leap 15 | PASS | PASS | SKIPPED | PASS | PASS |
+---------------------+-------------------+--------------------+----------------+--------------+------------------+
| CentOS 8 | PASS | PASS | SKIPPED | PASS | PASS |
+---------------------+-------------------+--------------------+----------------+--------------+------------------+
| Ubuntu 18.04 | PASS | PASS | PASS | PASS | PASS |
+---------------------+-------------------+--------------------+----------------+--------------+------------------+
| Fedora 31 | PASS | PASS | SKIPPED | PASS | PASS |
+---------------------+-------------------+--------------------+----------------+--------------+------------------+
| Windows Server 2019 | SKIPPED | PASS | SKIPPED | SKIPPED | SKIPPED |
+---------------------+-------------------+--------------------+----------------+--------------+------------------+
| Arch Linux | SKIPPED | PASS | SKIPPED | PASS | PASS |
+---------------------+-------------------+--------------------+----------------+--------------+------------------+
FreeBSD 11.2
Kernel: 11.2
Compiler: gcc 8.3
openSUSE Leap 15
Kernel: 4.12.14
Compiler: gcc 7.4.1
CentOS 8
Kernel: 4.18.0.el8_0
Compiler: gcc 8.3.1
Ubuntu 18.04
Kernel: 4.15.0-generic
Compiler: gcc 7.4
Fedora 31
Kernel: 5.3.16
Compiler: gcc 9.2.1
Windows Server 2019
Kernel: 10.0
Compiler: clang 9.0
Arch Linux
Kernel: latest
Compiler: gcc latest
To view detailed results, visit:
https://lab.dpdk.org/results/dashboard/patchsets/11521/
UNH-IOL DPDK Community Lab
To manage your email subscriptions, visit:
https://lab.dpdk.org/results/dashboard/preferences/subscriptions/
More information about the test-report
mailing list