[dpdk-test-report] |SUCCESS| pw72393-72395 [PATCH] [1/3] event/octeontx2: fix device reconfigure
dpdklab at iol.unh.edu
dpdklab at iol.unh.edu
Mon Jun 29 04:59:43 CEST 2020
Test-Label: iol-testing
Test-Status: SUCCESS
http://dpdk.org/patch/72393
_Testing PASS_
Submitter: Pavan Nikhilesh Bhagavatula <pbhagavatula at marvell.com>
Date: Monday, June 29 2020 01:33:26
DPDK git baseline: Repo:dpdk
Branch: master
CommitID:6248368a9ae1eadf6b7fb05ab37497afdb714429
72393-72395 --> testing pass
Test environment and result as below:
+---------------------+--------------+--------------------+----------------+-------------------+------------------+
| Environment | dpdk_compile | dpdk_meson_compile | dpdk_unit_test | dpdk_compile_spdk | dpdk_compile_ovs |
+=====================+==============+====================+================+===================+==================+
| FreeBSD 11.2 | PASS | PASS | SKIPPED | PASS | SKIPPED |
+---------------------+--------------+--------------------+----------------+-------------------+------------------+
| CentOS 8 | PASS | PASS | SKIPPED | PASS | PASS |
+---------------------+--------------+--------------------+----------------+-------------------+------------------+
| Ubuntu 18.04 | PASS | PASS | PASS | PASS | PASS |
+---------------------+--------------+--------------------+----------------+-------------------+------------------+
| openSUSE Leap 15 | PASS | PASS | SKIPPED | PASS | PASS |
+---------------------+--------------+--------------------+----------------+-------------------+------------------+
| Fedora 31 | PASS | PASS | SKIPPED | PASS | PASS |
+---------------------+--------------+--------------------+----------------+-------------------+------------------+
| Arch Linux | PASS | PASS | SKIPPED | SKIPPED | PASS |
+---------------------+--------------+--------------------+----------------+-------------------+------------------+
| Windows Server 2019 | SKIPPED | PASS | SKIPPED | SKIPPED | SKIPPED |
+---------------------+--------------+--------------------+----------------+-------------------+------------------+
FreeBSD 11.2
Kernel: 11.2
Compiler: gcc 8.3
CentOS 8
Kernel: 4.18.0.el8_0
Compiler: gcc 8.3.1
Ubuntu 18.04
Kernel: 4.15.0-generic
Compiler: gcc 7.4
openSUSE Leap 15
Kernel: 4.12.14
Compiler: gcc 7.4.1
Fedora 31
Kernel: 5.3.16
Compiler: gcc 9.2.1
Arch Linux
Kernel: latest
Compiler: gcc latest
Windows Server 2019
Kernel: 10.0
Compiler: clang 9.0
To view detailed results, visit:
https://lab.dpdk.org/results/dashboard/patchsets/11715/
UNH-IOL DPDK Community Lab
To manage your email subscriptions, visit:
https://lab.dpdk.org/results/dashboard/preferences/subscriptions/
More information about the test-report
mailing list